BEGIN:VCALENDAR
VERSION:2.0
PRODID:-//Esplanade by the Islands - ECPv6.15.15//NONSGML v1.0//EN
CALSCALE:GREGORIAN
METHOD:PUBLISH
X-WR-CALNAME:Esplanade by the Islands
X-ORIGINAL-URL:https://www.esplanadebytheislandslifestyle.com
X-WR-CALDESC:Events for Esplanade by the Islands
REFRESH-INTERVAL;VALUE=DURATION:PT1H
X-Robots-Tag:noindex
X-PUBLISHED-TTL:PT1H
BEGIN:VTIMEZONE
TZID:America/New_York
BEGIN:DAYLIGHT
TZOFFSETFROM:-0500
TZOFFSETTO:-0400
TZNAME:EDT
DTSTART:20230312T070000
END:DAYLIGHT
BEGIN:STANDARD
TZOFFSETFROM:-0400
TZOFFSETTO:-0500
TZNAME:EST
DTSTART:20231105T060000
END:STANDARD
BEGIN:DAYLIGHT
TZOFFSETFROM:-0500
TZOFFSETTO:-0400
TZNAME:EDT
DTSTART:20240310T070000
END:DAYLIGHT
BEGIN:STANDARD
TZOFFSETFROM:-0400
TZOFFSETTO:-0500
TZNAME:EST
DTSTART:20241103T060000
END:STANDARD
BEGIN:DAYLIGHT
TZOFFSETFROM:-0500
TZOFFSETTO:-0400
TZNAME:EDT
DTSTART:20250309T070000
END:DAYLIGHT
BEGIN:STANDARD
TZOFFSETFROM:-0400
TZOFFSETTO:-0500
TZNAME:EST
DTSTART:20251102T060000
END:STANDARD
BEGIN:DAYLIGHT
TZOFFSETFROM:-0500
TZOFFSETTO:-0400
TZNAME:EDT
DTSTART:20260308T070000
END:DAYLIGHT
BEGIN:STANDARD
TZOFFSETFROM:-0400
TZOFFSETTO:-0500
TZNAME:EST
DTSTART:20261101T060000
END:STANDARD
END:VTIMEZONE
BEGIN:VEVENT
DTSTART;TZID=America/New_York:20250130T150000
DTEND;TZID=America/New_York:20250130T180000
DTSTAMP:20260422T190858
CREATED:20241219T150550Z
LAST-MODIFIED:20241219T150718Z
UID:41541-1738249200-1738260000@www.esplanadebytheislandslifestyle.com
SUMMARY:Shopper's Market
DESCRIPTION:Don’t miss out on a vibrant day of shopping at the Shopper’s Market\, where local vendors will gather to showcase their unique products and handcrafted goods! This community event celebrates the creativity and craftsmanship of local makers\, providing the perfect opportunity to support small businesses and discover amazing\, locally sourced products. There will be an array of products to choose from such as home\, health\, and beauty items.  
URL:https://www.esplanadebytheislandslifestyle.com/event/shoppers-market-2/
LOCATION:Resort Amenity Campus Veranda
CATEGORIES:Lifestyle Activities and Events
ATTACH;FMTTYPE=image/jpeg:https://www.esplanadebytheislandslifestyle.com/wp-content/uploads/sites/64/2024/11/FarmersMarket-3.jpg
END:VEVENT
BEGIN:VEVENT
DTSTART;TZID=America/New_York:20250115T150000
DTEND;TZID=America/New_York:20250115T163000
DTSTAMP:20260422T190858
CREATED:20241216T174406Z
LAST-MODIFIED:20241216T174406Z
UID:40842-1736953200-1736958600@www.esplanadebytheislandslifestyle.com
SUMMARY:Paint & Sip with Sienna Shores
DESCRIPTION:Join us for a relaxed painting workshop led by Sienna Shores\, the founder of Studio Shores. Sienna will lead this workshop and provide all necessary painting materials\, as well as your first beverage of the evening. Everyone\, regardless of skill level\, is welcome to attend.  \nSpots are limited\, so sign up now! You don’t want to miss out on the opportunity to unleash your inner artist and socialize with your Esplanade neighbors at this event. \nPlease use the following link to purchase your ticket: Schedule Appointment with Studio Shores \nAll payments go directly to Sienna. Any cancellation within 24 hours of the event will receive a 50% refund. Any “no-shows” are non-refundable.
URL:https://www.esplanadebytheislandslifestyle.com/event/paint-sip-with-sienna-shores/
LOCATION:Resort Amenity Campus Veranda
CATEGORIES:Arts & Crafts,Lifestyle Activities and Events
ATTACH;FMTTYPE=image/jpeg:https://www.esplanadebytheislandslifestyle.com/wp-content/uploads/sites/64/2024/11/ArtsCrafts-7.jpg
END:VEVENT
BEGIN:VEVENT
DTSTART;TZID=America/New_York:20250107T090000
DTEND;TZID=America/New_York:20250107T100000
DTSTAMP:20260422T190858
CREATED:20241115T184207Z
LAST-MODIFIED:20241115T184207Z
UID:41327-1736240400-1736244000@www.esplanadebytheislandslifestyle.com
SUMMARY:Coffee and Conversation / Neighborhood News
DESCRIPTION:Meet with your Lifestyle Manager and Community Association Manager in a relaxed and social atmosphere to discuss Lifestyle and Community news and share ideas.
URL:https://www.esplanadebytheislandslifestyle.com/event/coffee-and-conversation-neighborhood-news-17/
LOCATION:Resort Amenity Campus Veranda
CATEGORIES:Community Meetings
ATTACH;FMTTYPE=image/jpeg:https://www.esplanadebytheislandslifestyle.com/wp-content/uploads/sites/64/2024/09/CoffeeCheers-1.jpg
END:VEVENT
BEGIN:VEVENT
DTSTART;TZID=America/New_York:20241214T090000
DTEND;TZID=America/New_York:20241214T110000
DTSTAMP:20260422T190858
CREATED:20241111T164221Z
LAST-MODIFIED:20241121T195651Z
UID:38068-1734166800-1734174000@www.esplanadebytheislandslifestyle.com
SUMMARY:Cookies and Cocoa - Santa Photoshoot
DESCRIPTION:Get ready for a holiday experience filled with joy and cheer! We’re thrilled to invite you to our Santa photoshoot\, where your children\, grandchildren\, and pets can capture magical moments with Santa Claus. While the photoshoot is for the little ones and furry friends\, we welcome adults to join the event and enjoy the festive atmosphere\, hot cocoa\, and holiday cookies. \nPlease note that pets are usually not permitted at the Resort Amenity Campus\, however\, there will be an exception for this event. We ask Members that bring their pets keep them on a leash or in a stroller and only access the Veranda area. Please do not walk your pet through the inside of the building or near the Bahama Bar/pool area. We appreciate your cooperation!
URL:https://www.esplanadebytheislandslifestyle.com/event/cookies-and-cocoa-santa-photoshoot/
LOCATION:Resort Amenity Campus Veranda
CATEGORIES:Courts,Lifestyle Activities and Events
ATTACH;FMTTYPE=image/jpeg:https://www.esplanadebytheislandslifestyle.com/wp-content/uploads/sites/64/2024/11/HolidayCookies-1550099051-scaled.jpg
END:VEVENT
BEGIN:VEVENT
DTSTART;TZID=America/New_York:20241210T090000
DTEND;TZID=America/New_York:20241210T100000
DTSTAMP:20260422T190858
CREATED:20240923T141352Z
LAST-MODIFIED:20241017T191432Z
UID:38065-1733821200-1733824800@www.esplanadebytheislandslifestyle.com
SUMMARY:Coffee and Conversation / Neighborhood News
DESCRIPTION:Meet with your Lifestyle Manager and Community Association Manager in a relaxed and social atmosphere to discuss Lifestyle and Community news and share ideas.
URL:https://www.esplanadebytheislandslifestyle.com/event/coffee-and-conversation-neighborhood-news-16/
LOCATION:Resort Amenity Campus Veranda
CATEGORIES:Community Meetings
ATTACH;FMTTYPE=image/jpeg:https://www.esplanadebytheislandslifestyle.com/wp-content/uploads/sites/64/2024/09/CoffeeCheers-1.jpg
END:VEVENT
BEGIN:VEVENT
DTSTART;TZID=America/New_York:20241205T170000
DTEND;TZID=America/New_York:20241205T180000
DTSTAMP:20260422T190858
CREATED:20241105T224545Z
LAST-MODIFIED:20241107T171901Z
UID:40883-1733418000-1733421600@www.esplanadebytheislandslifestyle.com
SUMMARY:Hormone Therapy for Women (and Men) for Healthy Aging- Benefits and Drawbacks
DESCRIPTION:Join Dr. Edwin James Dean\, owner of NAWI- Naples Aesthetics and Wellness Institute\, for an overview of the natural decline and consequences of depleted hormone levels in women and men. He will also discuss the history and misconceptions of hormone therapy including the landmark Women’s Health Initiative Study. He will look at options for hormone replacement Therapy (HRT) and discuss the drawbacks and benefits of HRT including enhancing internal health\, external beauty\, and quality of life. \nDr. Edwin James Dean grew up in Naples and graduated from Naples High School. He also graduated from Cornell University\, Cornell Medical School and LA County/USC Emergency Residency and was board certified in Emergency Medicine for 30 years. About 15 years ago\, he made a deliberate shift to wellness to focus on identifying and reducing cardiovascular risk\, and health aging strategies.
URL:https://www.esplanadebytheislandslifestyle.com/event/hormone-therapy-for-women-and-men-for-healthy-aging-benefits-and-drawbacks/
LOCATION:Resort Amenity Campus Veranda
ATTACH;FMTTYPE=image/jpeg:https://www.esplanadebytheislandslifestyle.com/wp-content/uploads/sites/64/2024/07/CoupleWalkingOnBeach.jpg
END:VEVENT
BEGIN:VEVENT
DTSTART;TZID=America/New_York:20241105T090000
DTEND;TZID=America/New_York:20241105T100000
DTSTAMP:20260422T190858
CREATED:20240912T133231Z
LAST-MODIFIED:20241017T191356Z
UID:37707-1730797200-1730800800@www.esplanadebytheislandslifestyle.com
SUMMARY:Coffee and Conversation / Neighborhood News
DESCRIPTION:Meet with your Lifestyle Manager and Community Association Manager in a relaxed and social atmosphere to discuss Lifestyle and Community news and share ideas.
URL:https://www.esplanadebytheislandslifestyle.com/event/coffee-and-conversation-neighborhood-news-15/
LOCATION:Resort Amenity Campus Veranda
CATEGORIES:Community Meetings
ATTACH;FMTTYPE=image/jpeg:https://www.esplanadebytheislandslifestyle.com/wp-content/uploads/sites/64/2024/09/CoffeeCheers.jpg
END:VEVENT
BEGIN:VEVENT
DTSTART;TZID=America/New_York:20241017T140000
DTEND;TZID=America/New_York:20241017T160000
DTSTAMP:20260422T190858
CREATED:20240819T024451Z
LAST-MODIFIED:20241014T172222Z
UID:37003-1729173600-1729180800@www.esplanadebytheislandslifestyle.com
SUMMARY:Octoberfest Pretzel Day
DESCRIPTION:Octoberfest Pretzel Day \nWe’re excited to celebrate Bavarian Pretzel Day and we want you to be a part of the fun! Come join us for freshly baked Bavarian pretzels with a variety of delicious dips and toppings\, this is fun activity for all ages! We can’t wait to see you there for a pretzel-perfect day!
URL:https://www.esplanadebytheislandslifestyle.com/event/octoberfest-pretzel-day/
LOCATION:Resort Amenity Campus Veranda
CATEGORIES:Dining & Happy Hour,Lifestyle Activities and Events
ATTACH;FMTTYPE=image/jpeg:https://www.esplanadebytheislandslifestyle.com/wp-content/uploads/sites/64/2024/08/Soft-Pretzel.jpg
END:VEVENT
BEGIN:VEVENT
DTSTART;TZID=America/New_York:20241008T090000
DTEND;TZID=America/New_York:20241008T100000
DTSTAMP:20260422T190858
CREATED:20240802T175549Z
LAST-MODIFIED:20241007T132657Z
UID:36699-1728378000-1728381600@www.esplanadebytheislandslifestyle.com
SUMMARY:Coffee and Conversation / Neighborhood News - Canceled
DESCRIPTION:Meet with your Lifestyle Manager and Community Association Manager in a relaxed and social atmosphere to discuss Lifestyle and Community news and share ideas. \n 
URL:https://www.esplanadebytheislandslifestyle.com/event/coffee-and-conversation-neighborhood-news-14/
LOCATION:Resort Amenity Campus Veranda
CATEGORIES:Community Meetings
ATTACH;FMTTYPE=image/jpeg:https://www.esplanadebytheislandslifestyle.com/wp-content/uploads/sites/64/2021/04/Depositphotos_114022396_l-2015.jpg
END:VEVENT
END:VCALENDAR