BEGIN:VCALENDAR
VERSION:2.0
PRODID:-//Esplanade by the Islands - ECPv6.15.15//NONSGML v1.0//EN
CALSCALE:GREGORIAN
METHOD:PUBLISH
X-WR-CALNAME:Esplanade by the Islands
X-ORIGINAL-URL:https://www.esplanadebytheislandslifestyle.com
X-WR-CALDESC:Events for Esplanade by the Islands
REFRESH-INTERVAL;VALUE=DURATION:PT1H
X-Robots-Tag:noindex
X-PUBLISHED-TTL:PT1H
BEGIN:VTIMEZONE
TZID:America/New_York
BEGIN:DAYLIGHT
TZOFFSETFROM:-0500
TZOFFSETTO:-0400
TZNAME:EDT
DTSTART:20230312T070000
END:DAYLIGHT
BEGIN:STANDARD
TZOFFSETFROM:-0400
TZOFFSETTO:-0500
TZNAME:EST
DTSTART:20231105T060000
END:STANDARD
BEGIN:DAYLIGHT
TZOFFSETFROM:-0500
TZOFFSETTO:-0400
TZNAME:EDT
DTSTART:20240310T070000
END:DAYLIGHT
BEGIN:STANDARD
TZOFFSETFROM:-0400
TZOFFSETTO:-0500
TZNAME:EST
DTSTART:20241103T060000
END:STANDARD
BEGIN:DAYLIGHT
TZOFFSETFROM:-0500
TZOFFSETTO:-0400
TZNAME:EDT
DTSTART:20250309T070000
END:DAYLIGHT
BEGIN:STANDARD
TZOFFSETFROM:-0400
TZOFFSETTO:-0500
TZNAME:EST
DTSTART:20251102T060000
END:STANDARD
END:VTIMEZONE
BEGIN:VEVENT
DTSTART;TZID=America/New_York:20240430T170000
DTEND;TZID=America/New_York:20240430T200000
DTSTAMP:20260422T193643
CREATED:20240131T144849Z
LAST-MODIFIED:20240131T144849Z
UID:33505-1714496400-1714507200@www.esplanadebytheislandslifestyle.com
SUMMARY:Food Truck Tuesday New Location
DESCRIPTION:https://www.eatdrinkparadise.com/ \nIntroducing a new venue that has now become the “Place to Be”. \nAbout Rooftop at Riverside: \nNow Open! \nLee County’s 1st approved Food Truck Park nestled in the heart of downtown Bonita Springs\, across from the Riverside Park bandshell.  \nBites and Family Favorites \n\n\nDiscover a range of tasty options with us. Our food trucks offer fresh\, delectable choices for every palate. Pair your food with refreshing cocktails or craft beers for the ultimate dining experience. \n\nCraft Cocktails and Local Beers \n\n\nOur bartenders are skilled in the art of mixology\, creating unique and delicious cocktails that will leave you thirsting for more. We also offer a rotating selection of national brands and local craft beers. \n\nRelax and Unwind \n\n\nWhether you’re gathering with friends\, enjoying a family night out\, or seeking a spot to catch the game\, you can relish the breathtaking Riverside Park view in great company. Sip on chilled beverages\, savor a refreshing breeze\, all from our upper deck. \nOur two-story bar offers an ideal setting for a lively\, inviting\, and exhilarating celebration. \n\n\nThis is not a community event\, rather an idea for an outing amongst friends and neighbors to explore and experience a new location.
URL:https://www.esplanadebytheislandslifestyle.com/event/food-truck-tuesday-new-location/
LOCATION:Rooftop at Riverside\, 27333 Old 41 Rd\, Bonita Springs\, FL 34135
CATEGORIES:Lifestyle Activities and Events
ATTACH;FMTTYPE=image/jpeg:https://www.esplanadebytheislandslifestyle.com/wp-content/uploads/sites/64/2023/12/FoodTruck.jpg
ORGANIZER;CN="Jennifer Jaehrling":MAILTO:Jennifer.Jaehrling@teamesplanade.com
END:VEVENT
END:VCALENDAR