BEGIN:VCALENDAR
VERSION:2.0
PRODID:-//Esplanade by the Islands - ECPv6.15.15//NONSGML v1.0//EN
CALSCALE:GREGORIAN
METHOD:PUBLISH
X-WR-CALNAME:Esplanade by the Islands
X-ORIGINAL-URL:https://www.esplanadebytheislandslifestyle.com
X-WR-CALDESC:Events for Esplanade by the Islands
REFRESH-INTERVAL;VALUE=DURATION:PT1H
X-Robots-Tag:noindex
X-PUBLISHED-TTL:PT1H
BEGIN:VTIMEZONE
TZID:America/New_York
BEGIN:DAYLIGHT
TZOFFSETFROM:-0500
TZOFFSETTO:-0400
TZNAME:EDT
DTSTART:20220313T070000
END:DAYLIGHT
BEGIN:STANDARD
TZOFFSETFROM:-0400
TZOFFSETTO:-0500
TZNAME:EST
DTSTART:20221106T060000
END:STANDARD
BEGIN:DAYLIGHT
TZOFFSETFROM:-0500
TZOFFSETTO:-0400
TZNAME:EDT
DTSTART:20230312T070000
END:DAYLIGHT
BEGIN:STANDARD
TZOFFSETFROM:-0400
TZOFFSETTO:-0500
TZNAME:EST
DTSTART:20231105T060000
END:STANDARD
BEGIN:DAYLIGHT
TZOFFSETFROM:-0500
TZOFFSETTO:-0400
TZNAME:EDT
DTSTART:20240310T070000
END:DAYLIGHT
BEGIN:STANDARD
TZOFFSETFROM:-0400
TZOFFSETTO:-0500
TZNAME:EST
DTSTART:20241103T060000
END:STANDARD
END:VTIMEZONE
BEGIN:VEVENT
DTSTART;TZID=America/New_York:20230427T123000
DTEND;TZID=America/New_York:20230427T140000
DTSTAMP:20260423T073749
CREATED:20230128T184316Z
LAST-MODIFIED:20230324T172307Z
UID:6661-1682598600-1682604000@www.esplanadebytheislandslifestyle.com
SUMMARY:Ladies Lunch at Saki Japanese Kitchen (New Location)
DESCRIPTION:Join us for at this brand-new location on the East Trail where their talented\, experienced chefs create amazing dishes using fresh ingredients\, Exotic sauces and flavors that intermingle on your plate. Transportation is on your own but feel free to car pool. A la Carte Lunch Menu with separate checks for each attendee. \nPlease register by April 23. \n  \n 
URL:https://www.esplanadebytheislandslifestyle.com/event/ladies-lunch-at-saki-japanese-restaurant-new-location/
LOCATION:Saki Japanese Kitchen\, 4903 Tamiami Trail East\, Naples\, Florida\, 34113
CATEGORIES:Dining & Happy Hour,Lifestyle Activities and Events
ATTACH;FMTTYPE=image/png:https://www.esplanadebytheislandslifestyle.com/wp-content/uploads/sites/64/2022/05/High-Res-lunch-2.png
ORGANIZER;CN="Carri Adam":MAILTO:Carri.Adam@teamesplanade.com
END:VEVENT
END:VCALENDAR