BEGIN:VCALENDAR
VERSION:2.0
PRODID:-//Esplanade by the Islands - ECPv6.15.15//NONSGML v1.0//EN
CALSCALE:GREGORIAN
METHOD:PUBLISH
X-WR-CALNAME:Esplanade by the Islands
X-ORIGINAL-URL:https://www.esplanadebytheislandslifestyle.com
X-WR-CALDESC:Events for Esplanade by the Islands
REFRESH-INTERVAL;VALUE=DURATION:PT1H
X-Robots-Tag:noindex
X-PUBLISHED-TTL:PT1H
BEGIN:VTIMEZONE
TZID:America/New_York
BEGIN:DAYLIGHT
TZOFFSETFROM:-0500
TZOFFSETTO:-0400
TZNAME:EDT
DTSTART:20210314T070000
END:DAYLIGHT
BEGIN:STANDARD
TZOFFSETFROM:-0400
TZOFFSETTO:-0500
TZNAME:EST
DTSTART:20211107T060000
END:STANDARD
BEGIN:DAYLIGHT
TZOFFSETFROM:-0500
TZOFFSETTO:-0400
TZNAME:EDT
DTSTART:20220313T070000
END:DAYLIGHT
BEGIN:STANDARD
TZOFFSETFROM:-0400
TZOFFSETTO:-0500
TZNAME:EST
DTSTART:20221106T060000
END:STANDARD
BEGIN:DAYLIGHT
TZOFFSETFROM:-0500
TZOFFSETTO:-0400
TZNAME:EDT
DTSTART:20230312T070000
END:DAYLIGHT
BEGIN:STANDARD
TZOFFSETFROM:-0400
TZOFFSETTO:-0500
TZNAME:EST
DTSTART:20231105T060000
END:STANDARD
BEGIN:DAYLIGHT
TZOFFSETFROM:-0500
TZOFFSETTO:-0400
TZNAME:EDT
DTSTART:20240310T070000
END:DAYLIGHT
BEGIN:STANDARD
TZOFFSETFROM:-0400
TZOFFSETTO:-0500
TZNAME:EST
DTSTART:20241103T060000
END:STANDARD
END:VTIMEZONE
BEGIN:VEVENT
DTSTART;TZID=America/New_York:20230131T100000
DTEND;TZID=America/New_York:20230131T140000
DTSTAMP:20260423T075833
CREATED:20230103T154844Z
LAST-MODIFIED:20230103T154844Z
UID:6252-1675159200-1675173600@www.esplanadebytheislandslifestyle.com
SUMMARY:Better Than A Bistro On Site
DESCRIPTION:https://betterthanabistro.com/ \n\n\n\n\n\n\n\n\n\n\n\n\n\n\n\nBetter Than A Bistro will deliver to the community everything from Signature Black Label Steaks to Wagyu to Kobe to Prime Steaks. Their seafood is Sashimi Grade from locations throughout the world. Their poultry is Antibiotic\, Hormone and Steroid-free. They have Veal Chops and Veal Cutlets\, Lamb Chops to Lollipop Lamb chops to Rack of Lamb and even Leg of lamb as well. Their desserts come from New York\, France and Italy. \nFor those who take entertaining seriously\, they will be offering a complete line of exceptional Hors d’oeuvres and Appetizers. For those who desire something they do not usually offer\, please let us know. They will reach out to their purveyors and do their very best to get it for you. \nAt Better Than A Bistro\, they strive to only purchase the highest grades in beef\, poultry and seafood. They know that once you try any of their products\, you\, your family and your guest will enjoy every meal at your dinner table.
URL:https://www.esplanadebytheislandslifestyle.com/event/better-than-a-bistro-on-site-4/
LOCATION:Sales Gallery
CATEGORIES:Dining & Happy Hour,Lifestyle Activities and Events
ATTACH;FMTTYPE=image/jpeg:https://www.esplanadebytheislandslifestyle.com/wp-content/uploads/sites/64/2022/10/Steak.jpg
ORGANIZER;CN="Carri Adam":MAILTO:Carri.Adam@teamesplanade.com
END:VEVENT
BEGIN:VEVENT
DTSTART;TZID=America/New_York:20230119T173000
DTEND;TZID=America/New_York:20230119T193000
DTSTAMP:20260423T075833
CREATED:20221128T160716Z
LAST-MODIFIED:20230117T181127Z
UID:5756-1674149400-1674156600@www.esplanadebytheislandslifestyle.com
SUMMARY:Souper Bowl Party
DESCRIPTION:Did you know January is National Soup Month? So what better way to celebrate than with some new bowls of warm\, delicious goodness. You supply your favorite soup and/or chili in a crockpot or large serving pot and the HOA will supply bread\, salad and dessert! But to make it a little more fun\, we are going to make it a competition. You will be given a spoon and voting card on entry. Wait until you see the creative way you will sample the soups and vote for your favorites. Prizes will be given to the top finishers. \nMinimum of 30 participants required to hold event\, with at least 10 contributing soup. Registration required by January 15.
URL:https://www.esplanadebytheislandslifestyle.com/event/souper-bowl-party/
LOCATION:Sales Gallery
CATEGORIES:Dining & Happy Hour,Lifestyle Activities and Events
ATTACH;FMTTYPE=image/jpeg:https://www.esplanadebytheislandslifestyle.com/wp-content/uploads/sites/64/2022/11/Soup-1.jpg
ORGANIZER;CN="Carri Adam":MAILTO:Carri.Adam@teamesplanade.com
END:VEVENT
BEGIN:VEVENT
DTSTART;TZID=America/New_York:20230117T100000
DTEND;TZID=America/New_York:20230117T140000
DTSTAMP:20260423T075833
CREATED:20230103T154549Z
LAST-MODIFIED:20230103T154728Z
UID:6248-1673949600-1673964000@www.esplanadebytheislandslifestyle.com
SUMMARY:Better Than A Bistro On Site
DESCRIPTION:https://betterthanabistro.com/ \n\n\n\n\n\n\n\n\n\n\n\n\n\n\n\nBetter Than A Bistro will deliver to the community everything from Signature Black Label Steaks to Wagyu to Kobe to Prime Steaks. Their seafood is Sashimi Grade from locations throughout the world. Their poultry is Antibiotic\, Hormone and Steroid-free. They have Veal Chops and Veal Cutlets\, Lamb Chops to Lollipop Lamb chops to Rack of Lamb and even Leg of lamb as well. Their desserts come from New York\, France and Italy. \nFor those who take entertaining seriously\, they will be offering a complete line of exceptional Hors d’oeuvres and Appetizers. For those who desire something they do not usually offer\, please let us know. They will reach out to their purveyors and do their very best to get it for you. \nAt Better Than A Bistro\, they strive to only purchase the highest grades in beef\, poultry and seafood. They know that once you try any of their products\, you\, your family and your guest will enjoy every meal at your dinner table.
URL:https://www.esplanadebytheislandslifestyle.com/event/better-than-a-bistro-on-site-3/
LOCATION:Sales Gallery
CATEGORIES:Dining & Happy Hour,Lifestyle Activities and Events
ATTACH;FMTTYPE=image/jpeg:https://www.esplanadebytheislandslifestyle.com/wp-content/uploads/sites/64/2022/10/Steak.jpg
ORGANIZER;CN="Carri Adam":MAILTO:Carri.Adam@teamesplanade.com
END:VEVENT
BEGIN:VEVENT
DTSTART;TZID=America/New_York:20230112T170000
DTEND;TZID=America/New_York:20230112T180000
DTSTAMP:20260423T075833
CREATED:20221206T203705Z
LAST-MODIFIED:20221206T214542Z
UID:5885-1673542800-1673546400@www.esplanadebytheislandslifestyle.com
SUMMARY:Yoga on the Patio
DESCRIPTION:Do you want to improve your strength\, balance\, and flexibility all while having a little fun? Join us for yoga on the patio! \nFACT: Yoga is an excellent form of exercise to improving flexibility. In fact\, the American College of Physicians recommends yoga as a first-line treatment for chronic lower back pain. \nPlease select your respective ticket upon registration. Registration minimum of 6 participants required. RSVP by Sunday\, January 8.
URL:https://www.esplanadebytheislandslifestyle.com/event/yoga-on-the-patio-4/
LOCATION:Sales Gallery
CATEGORIES:Fitness & Wellness
ATTACH;FMTTYPE=image/jpeg:https://www.esplanadebytheislandslifestyle.com/wp-content/uploads/sites/64/2021/11/Depositphotos_45262811_L.jpg
ORGANIZER;CN="Carri Adam":MAILTO:Carri.Adam@teamesplanade.com
END:VEVENT
BEGIN:VEVENT
DTSTART;TZID=America/New_York:20230111T173000
DTEND;TZID=America/New_York:20230111T190000
DTSTAMP:20260423T075833
CREATED:20221128T155115Z
LAST-MODIFIED:20221206T194756Z
UID:5753-1673458200-1673463600@www.esplanadebytheislandslifestyle.com
SUMMARY:Living With Bears Presentation
DESCRIPTION:Over 4\,000 black bears live in the state and South Florida alone is now home to an average of over 1\,000 black bears. Being good neighbors means knowing what is best behavior for both bears and people. Join us as Chris Boyce\, South Area Bear Biologist with the FWC\, educates you how you can safely live with these often-misunderstood mammals. \nRegistration required by Sunday\, January 8.  
URL:https://www.esplanadebytheislandslifestyle.com/event/living-with-bears-presentation/
LOCATION:Sales Gallery
CATEGORIES:Lifestyle Activities and Events
ATTACH;FMTTYPE=image/jpeg:https://www.esplanadebytheislandslifestyle.com/wp-content/uploads/sites/64/2022/11/Blackbear.jpg
ORGANIZER;CN="Carri Adam":MAILTO:Carri.Adam@teamesplanade.com
END:VEVENT
BEGIN:VEVENT
DTSTART;TZID=America/New_York:20221222T140000
DTEND;TZID=America/New_York:20221222T150000
DTSTAMP:20260423T075833
CREATED:20221108T195003Z
LAST-MODIFIED:20221108T195003Z
UID:5519-1671717600-1671721200@www.esplanadebytheislandslifestyle.com
SUMMARY:Trulli Pasta Onsite: Artisan Pasta and Chef-Prepared Sauces
DESCRIPTION:As a part of your Esplanade concierge offerings\, we are pleased to announce a new partnership with Trulli Pasta! Representatives will be onsite on December 8 and December 22 from 2:00-3:00 p.m. Members will have the opportunity to purchase pasta and more from the convenience of the Sales Gallery parking lot.
URL:https://www.esplanadebytheislandslifestyle.com/event/trulli-pasta-onsite-artisan-pasta-and-chef-prepared-sauces-2/
LOCATION:Sales Gallery
CATEGORIES:Dining & Happy Hour,Lifestyle Activities and Events
ATTACH;FMTTYPE=image/jpeg:https://www.esplanadebytheislandslifestyle.com/wp-content/uploads/sites/64/2022/11/Pasta.jpg
ORGANIZER;CN="Carri Adam":MAILTO:Carri.Adam@teamesplanade.com
END:VEVENT
BEGIN:VEVENT
DTSTART;TZID=America/New_York:20221216T120000
DTEND;TZID=America/New_York:20221216T150000
DTSTAMP:20260423T075833
CREATED:20220922T180915Z
LAST-MODIFIED:20221129T145840Z
UID:4776-1671192000-1671202800@www.esplanadebytheislandslifestyle.com
SUMMARY:Shopper's Market
DESCRIPTION:Shop right from the comfort of your own community for a variety of gifts for yourself or someone else. Vendor booths of local shops will be here to help you with all of your last-minute holiday shopping needs.  Sandwiches and cookies available for all attendees! Vendors take cash and/or credit cards.                                                                                                                                            \nPlease register by December 11. Minimum of 30 required to hold event.
URL:https://www.esplanadebytheislandslifestyle.com/event/shoppers-market/
LOCATION:Sales Gallery
CATEGORIES:Dining & Happy Hour,Lifestyle Activities and Events
ATTACH;FMTTYPE=image/jpeg:https://www.esplanadebytheislandslifestyle.com/wp-content/uploads/sites/64/2022/09/Gift.jpg
ORGANIZER;CN="Carri Adam":MAILTO:Carri.Adam@teamesplanade.com
END:VEVENT
BEGIN:VEVENT
DTSTART;TZID=America/New_York:20221214T173000
DTEND;TZID=America/New_York:20221214T183000
DTSTAMP:20260423T075833
CREATED:20220922T181100Z
LAST-MODIFIED:20221206T202218Z
UID:4771-1671039000-1671042600@www.esplanadebytheislandslifestyle.com
SUMMARY:Holiday Golf Cart Parade-CANCELED DUE TO LOW PARTICIPATION
DESCRIPTION:Now is your chance to show us how creative you can be by decorating your golf cart in its holiday finest! All carts participating in the parade must be registered with your Lifestyle Manager in advance.  We will depart the Sales Gallery at 5:30pm and tour around the entire neighborhood.  A prize will be given to the best decorated cart.                                                                                    \n  \nPlease register by December 4. Minimum of 8 carts required to hold event.
URL:https://www.esplanadebytheislandslifestyle.com/event/holiday-golf-cart-parade/
LOCATION:Sales Gallery
CATEGORIES:Dining & Happy Hour,Lifestyle Activities and Events
ATTACH;FMTTYPE=image/jpeg:https://www.esplanadebytheislandslifestyle.com/wp-content/uploads/sites/64/2022/09/Holiday-Golf-Cart.jpg
ORGANIZER;CN="Carri Adam":MAILTO:Carri.Adam@teamesplanade.com
END:VEVENT
BEGIN:VEVENT
DTSTART;TZID=America/New_York:20221211T130000
DTEND;TZID=America/New_York:20221211T140000
DTSTAMP:20260423T075833
CREATED:20220922T174934Z
LAST-MODIFIED:20221103T172703Z
UID:4767-1670763600-1670767200@www.esplanadebytheislandslifestyle.com
SUMMARY:Puppy Pics with Santa
DESCRIPTION:Join us on the patio of the Sales Gallery for the ultimate photo-op\, pictures with Santa. We will have dog snacks for your furry family members and cookies for everyone else. You don’t have to have a dog to get your photo taken with Santa as kids\, grandkids and all members are welcome as well.                                          \nPlease register by December 4.  
URL:https://www.esplanadebytheislandslifestyle.com/event/puppy-pics-with-santa/
LOCATION:Sales Gallery
CATEGORIES:Lifestyle Activities and Events,Pets
ATTACH;FMTTYPE=image/jpeg:https://www.esplanadebytheislandslifestyle.com/wp-content/uploads/sites/64/2022/09/Puppy-Pics.jpg
ORGANIZER;CN="Carri Adam":MAILTO:Carri.Adam@teamesplanade.com
END:VEVENT
BEGIN:VEVENT
DTSTART;TZID=America/New_York:20221208T130000
DTEND;TZID=America/New_York:20221208T150000
DTSTAMP:20260423T075833
CREATED:20221117T154549Z
LAST-MODIFIED:20221117T154549Z
UID:5633-1670504400-1670511600@www.esplanadebytheislandslifestyle.com
SUMMARY:National Brownie Day Celebration
DESCRIPTION:On December 8 we celebrate the perfect cross between cake and a cookie\, it is National Brownie Day! No one can resist the gooey decadence of a brownie\, whether it is chocolate or a blondie. With endless recipes and variations\, there is a brownie for everyone. Stop by the Sales Gallery between 1-3 p.m. and choose a brownie from our brownie bar! \nMinimum of 10 participants required to hold event. Registration is required by Friday\, December 2nd.
URL:https://www.esplanadebytheislandslifestyle.com/event/national-brownie-day-celebration/
LOCATION:Sales Gallery
CATEGORIES:Dining & Happy Hour,Lifestyle Activities and Events
ORGANIZER;CN="Carri Adam":MAILTO:Carri.Adam@teamesplanade.com
END:VEVENT
BEGIN:VEVENT
DTSTART;TZID=America/New_York:20221202T090000
DTEND;TZID=America/New_York:20221202T120000
DTSTAMP:20260423T075833
CREATED:20221108T200813Z
LAST-MODIFIED:20221108T200813Z
UID:5521-1669971600-1669982400@www.esplanadebytheislandslifestyle.com
SUMMARY:Kitchen Kutz Mobile Knife Sharpener On Site
DESCRIPTION:Steven from Kitchen Kutz Mobile Knife Sharpening will be onsite offering state of the art knife sharpening services ($6 per knife)\, restoring your tools of culinary craftmanship to their most optimal razor sharpness. Knives may dropped  off in the morning and picked up before 12 p.m.
URL:https://www.esplanadebytheislandslifestyle.com/event/kitchen-kutz-mobile-knife-sharpener-on-site/
LOCATION:Sales Gallery
CATEGORIES:Dining & Happy Hour,Lifestyle Activities and Events
ATTACH;FMTTYPE=image/jpeg:https://www.esplanadebytheislandslifestyle.com/wp-content/uploads/sites/64/2022/11/SharpenedKnife.jpg
ORGANIZER;CN="Carri Adam":MAILTO:Carri.Adam@teamesplanade.com
END:VEVENT
BEGIN:VEVENT
DTSTART;TZID=America/New_York:20221122T180000
DTEND;TZID=America/New_York:20221122T200000
DTSTAMP:20260423T075833
CREATED:20221109T155841Z
LAST-MODIFIED:20221111T145715Z
UID:5539-1669140000-1669147200@www.esplanadebytheislandslifestyle.com
SUMMARY:Meet & Greet with Troon & Resort Experience Team
DESCRIPTION:Our Board of Directors will be hosting an introductory meet & greet with the Esplanade Resort Experiences and Troon team! This will be a relaxed gathering giving Members the opportunity to connect with each group as we all work together to make this a smooth transition. Please join us in the Resort Amenity Center for light hors d’oeuvres and beverages. They are eager to celebrate with you as we launch this exciting new partnership!
URL:https://www.esplanadebytheislandslifestyle.com/event/meet-greet-with-troon-resort-experience-team/
LOCATION:Sales Gallery
CATEGORIES:Community Meetings
ATTACH;FMTTYPE=image/jpeg:https://www.esplanadebytheislandslifestyle.com/wp-content/uploads/sites/64/2022/11/WIneCheers-1-scaled.jpg
ORGANIZER;CN="Carri Adam":MAILTO:Carri.Adam@teamesplanade.com
END:VEVENT
BEGIN:VEVENT
DTSTART;TZID=America/New_York:20221115T100000
DTEND;TZID=America/New_York:20221115T140000
DTSTAMP:20260423T075833
CREATED:20221026T153355Z
LAST-MODIFIED:20221026T153355Z
UID:5242-1668506400-1668520800@www.esplanadebytheislandslifestyle.com
SUMMARY:Better Than A Bistro On Site
DESCRIPTION:Better Than A Bistro will deliver to the community everything from Signature Black Label Steaks to Wagyu to Kobe to Prime Steaks. Their seafood is Sashimi Grade from locations throughout the world. Their poultry is Antibiotic\, Hormone and Steroid-free. They have Veal Chops and Veal Cutlets\, Lamb Chops to Lollipop Lamb chops to Rack of Lamb and even Leg of lamb as well. Their desserts come from New York\, France and Italy. \nThey also will have Hams\, Turkeys and Roasts for your holiday gatherings. For those who take entertaining seriously\, they will be offering a complete line of exceptional Hors d’oeuvres and Appetizers. For those who desire something they do not usually offer\, please let us know. They will reach out to their purveyors and do their very best to get it for you. \nAt Better Than A Bistro\, they strive to only purchase the highest grades in beef\, poultry and seafood. They know that once you try any of their products\, you\, your family and your guest will enjoy every meal at your dinner table.
URL:https://www.esplanadebytheislandslifestyle.com/event/better-than-a-bistro-on-site-2/
LOCATION:Sales Gallery
CATEGORIES:Dining & Happy Hour,Lifestyle Activities and Events
ATTACH;FMTTYPE=image/jpeg:https://www.esplanadebytheislandslifestyle.com/wp-content/uploads/sites/64/2022/10/Steak.jpg
ORGANIZER;CN="Carri Adam":MAILTO:Carri.Adam@teamesplanade.com
END:VEVENT
BEGIN:VEVENT
DTSTART;TZID=America/New_York:20221110T173000
DTEND;TZID=America/New_York:20221110T193000
DTSTAMP:20260423T075833
CREATED:20220902T191756Z
LAST-MODIFIED:20221103T173358Z
UID:4661-1668101400-1668108600@www.esplanadebytheislandslifestyle.com
SUMMARY:Living With Alligators Presentation By Beth Hamm
DESCRIPTION:Join Beth Hamm\, a Licensed Alligator Trapper with FWC\, for an in-depth learning experience on living with the Florida alligator. Gator Beth as she is often referred to\,  will go over all the “dos & don’ts” of alligator safety in our community. In addition\, she will answer all your questions regarding living alongside of alligators. This is a must see presentation!
URL:https://www.esplanadebytheislandslifestyle.com/event/living-with-alligators-presentation-by-beth-hamm/
LOCATION:Sales Gallery
CATEGORIES:Lifestyle Activities and Events
ATTACH;FMTTYPE=image/png:https://www.esplanadebytheislandslifestyle.com/wp-content/uploads/sites/64/2022/09/High-Res-alligator.png
ORGANIZER;CN="Carri Adam":MAILTO:Carri.Adam@teamesplanade.com
END:VEVENT
BEGIN:VEVENT
DTSTART;TZID=America/New_York:20221110T110000
DTEND;TZID=America/New_York:20221110T120000
DTSTAMP:20260423T075833
CREATED:20220719T213133Z
LAST-MODIFIED:20221109T195656Z
UID:5507-1668078000-1668081600@www.esplanadebytheislandslifestyle.com
SUMMARY:Fresh Catch Fish Company Onsite-CANCELED THIS WEEK DUE TO STORM
DESCRIPTION:Fresh Catch Fish Company will be onsite selling fresh seafood\, meats and other prepared foods. The vendor takes cash and credit cards. You can pre-order fish for delivery onsite by calling 1-833-559-7676; however\, you do not need to pre-order in advance to purchase fish. You can check out the vendor here: https://freshcatchfishco.com/.
URL:https://www.esplanadebytheislandslifestyle.com/event/fresh-catch-fish-company-onsite-4-2022-11-10/
LOCATION:Sales Gallery
CATEGORIES:Dining & Happy Hour,Lifestyle Activities and Events
ATTACH;FMTTYPE=image/jpeg:https://www.esplanadebytheislandslifestyle.com/wp-content/uploads/sites/64/2022/07/FishPic.jpg
END:VEVENT
BEGIN:VEVENT
DTSTART;TZID=America/New_York:20221109T180000
DTEND;TZID=America/New_York:20221109T190000
DTSTAMP:20260423T075833
CREATED:20221108T180423Z
LAST-MODIFIED:20221108T180754Z
UID:5487-1668016800-1668020400@www.esplanadebytheislandslifestyle.com
SUMMARY:Developers Update Meeting
DESCRIPTION:  \n\n\n\n\n\n\n\n\n\n\n\n\n\n\nBelow is the link for our Developers Update meeting on 11/9 at 6 pm. \nTopic: EBTI – Developer Update\nTime: Nov 9\, 2022 06:00 PM Eastern Time (US and Canada) \nJoin Zoom Meeting\nhttps://evergreen-lm.zoom.us/j/87002085578?pwd=TGpHd242WmU1ZThKVG5uYkF5ekRrZz09 \nMeeting ID: 870 0208 5578\nPasscode: 680793\nOne tap mobile\n+13126266799\,\,87002085578#\,\,\,\,*680793# US (Chicago)\n+16469313860\,\,87002085578#\,\,\,\,*680793# US \nDial by your location\n+1 312 626 6799 US (Chicago)\n+1 646 931 3860 US\n+1 929 205 6099 US (New York)\n+1 301 715 8592 US (Washington DC)\n+1 309 205 3325 US\n+1 360 209 5623 US\n+1 386 347 5053 US\n+1 507 473 4847 US\n+1 564 217 2000 US\n+1 669 444 9171 US\n+1 669 900 6833 US (San Jose)\n+1 689 278 1000 US\n+1 719 359 4580 US\n+1 253 215 8782 US (Tacoma)\n+1 346 248 7799 US (Houston)\nMeeting ID: 870 0208 5578\nPasscode: 680793\nFind your local number: https://evergreen-lm.zoom.us/u/kejhlS1YdD
URL:https://www.esplanadebytheislandslifestyle.com/event/developers-update-meeting-2/
LOCATION:Sales Gallery
CATEGORIES:Community Meetings
ORGANIZER;CN="Dareine Perez":MAILTO:DPerez@Evergreen-LM.com
END:VEVENT
BEGIN:VEVENT
DTSTART;TZID=America/New_York:20221108T170000
DTEND;TZID=America/New_York:20221108T180000
DTSTAMP:20260423T075833
CREATED:20220922T185518Z
LAST-MODIFIED:20221107T175907Z
UID:4782-1667926800-1667930400@www.esplanadebytheislandslifestyle.com
SUMMARY:Yoga on the Patio-Canceled Due to Low Attendance
DESCRIPTION:Do you want to improve your strength\, balance\, and flexibility all while having a little fun? Join us for yoga on the patio! \nFACT: Yoga is an excellent form of exercise to improving flexibility. In fact\, the American College of Physicians recommends yoga as a first-line treatment for chronic lower back pain. \nPlease select your respective ticket upon registration. Registration minimum of 6 participants required. RSVP by Sunday\, November 6.
URL:https://www.esplanadebytheislandslifestyle.com/event/yoga-on-the-patio-3/
LOCATION:Sales Gallery
CATEGORIES:Fitness & Wellness
ATTACH;FMTTYPE=image/jpeg:https://www.esplanadebytheislandslifestyle.com/wp-content/uploads/sites/64/2021/11/Depositphotos_45262811_L.jpg
ORGANIZER;CN="Carri Adam":MAILTO:Carri.Adam@teamesplanade.com
END:VEVENT
BEGIN:VEVENT
DTSTART;TZID=America/New_York:20221103T173000
DTEND;TZID=America/New_York:20221103T193000
DTSTAMP:20260423T075833
CREATED:20221015T004023Z
LAST-MODIFIED:20221019T194912Z
UID:4976-1667496600-1667503800@www.esplanadebytheislandslifestyle.com
SUMMARY:Cooking and Cocktail Series Presents – The 3 Pillars of Pizza
DESCRIPTION:Your National Director of Food\, Beverage & Culinary Experience\, Patrick Scully\, along with your local Lifestyle team invite you to join us for our next installment of the Cooking and Cocktail series: The 3 Pillars of Pizza. This tasting experience will last approximately 1.5 hours and will include an engaging demonstration on the 3 fundamental pillars of cooking up the perfect gourmet pizza as well as the recommended wine pairings designed to beautifully\ncomplement your pizza’s flavor profiles. \nPillar 1 – The Dough – Learn to create an authentic Neapolitan style dough as your base. \nPillar 2 – Sauce & Toppings – Learn to make a delicious authentic sauce and select the perfect toppings. \nPillar 3 – The Oven – Learn how to properly cook your pizza including oven types\, temperature of the oven and more. Please visit the event calendar on your community website to register for this gastronomic event! \nRegistration opens Saturday\, October 14 at 9:00 a.m. and is required by Thursday\, October 27. This event has a minimum requirement of 15 participants and a maximum of 25.  Also\, please bring your favorite libation to enjoy while the presentation is going on. \n \n 
URL:https://www.esplanadebytheislandslifestyle.com/event/cooking-and-cocktail-series-presents-the-3-pillars-of-pizza/
LOCATION:Sales Gallery
CATEGORIES:Dining & Happy Hour,Lifestyle Activities and Events
ATTACH;FMTTYPE=image/jpeg:https://www.esplanadebytheislandslifestyle.com/wp-content/uploads/sites/64/2022/07/GourmetPizza-3-scaled.jpg
ORGANIZER;CN="Carri Adam":MAILTO:Carri.Adam@teamesplanade.com
END:VEVENT
BEGIN:VEVENT
DTSTART;TZID=America/New_York:20221101T100000
DTEND;TZID=America/New_York:20221101T140000
DTSTAMP:20260423T075833
CREATED:20221026T153122Z
LAST-MODIFIED:20221026T153246Z
UID:5237-1667296800-1667311200@www.esplanadebytheislandslifestyle.com
SUMMARY:Better Than A Bistro On Site
DESCRIPTION:Better Than A Bistro will deliver to the community everything from Signature Black Label Steaks to Wagyu to Kobe to Prime Steaks. Their seafood is Sashimi Grade from locations throughout the world. Their poultry is Antibiotic\, Hormone and Steroid-free. They have Veal Chops and Veal Cutlets\, Lamb Chops to Lollipop Lamb chops to Rack of Lamb and even Leg of lamb as well. Their desserts come from New York\, France and Italy. \nThey also will have Hams\, Turkeys and Roasts for your holiday gatherings. For those who take entertaining seriously\, they will be offering a complete line of exceptional Hors d’oeuvres and Appetizers. For those who desire something they do not usually offer\, please let us know. They will reach out to their purveyors and do their very best to get it for you. \nAt Better Than A Bistro\, they strive to only purchase the highest grades in beef\, poultry and seafood. They know that once you try any of their products\, you\, your family and your guest will enjoy every meal at your dinner table.
URL:https://www.esplanadebytheislandslifestyle.com/event/better-than-a-bistro-on-site/
LOCATION:Sales Gallery
CATEGORIES:Dining & Happy Hour,Lifestyle Activities and Events
ATTACH;FMTTYPE=image/jpeg:https://www.esplanadebytheislandslifestyle.com/wp-content/uploads/sites/64/2022/10/Steak.jpg
ORGANIZER;CN="Carri Adam":MAILTO:Carri.Adam@teamesplanade.com
END:VEVENT
BEGIN:VEVENT
DTSTART;TZID=America/New_York:20221031T173000
DTEND;TZID=America/New_York:20221031T200000
DTSTAMP:20260423T075833
CREATED:20220721T172258Z
LAST-MODIFIED:20221031T154733Z
UID:4206-1667237400-1667246400@www.esplanadebytheislandslifestyle.com
SUMMARY:"Bring Your Own Boo's" Halloween Mixer with Vesuvius Wood Fire Pizza Truck
DESCRIPTION:Join your neighbors for a thrillingly fun time! Enjoy your own 12” Pizza from Vesuvius Wood Fire Pizza Truck baked right here onsite. We will be accepting pre-orders on the pizzas so we can be prepared for you on arrival and pickup times will be assigned on a first-come\, first-serve basis. Wear your best costume to be enrolled in the costume contest! Spookylicious prize awarded to the winner. Bring a bag of candy to hand out to the neighborhood kids who can trick-or-treat at the model that night. Don’t forget to bring your own favorite beverages\, aka “boo’s” to drink! Dessert will also be provided for all attendees. \nPizzas need to be pre-ordered and pickup times will be distributed on a first-come\, first-serve basis. You can choose from the following pizzas (One pizza per paid member registered.). \n  \nVesuvius 12” Wood Fired Pizza Choices \nAmerican  Sauce\, Mozzarella\, Mushrooms\, Onions\, Pepperoni & Sausage \nHot Honey  Sauce\, Fresh Mozzarella\, Pepperoni & Hot Honey \nHawaiian: Sauce\, Mozzarella\, Pineapple\, Ham & Oregano \nRoasted Veggie: Sauce\, Mozzarella\, Mushrooms\, Onion\, Red Pepper & Spinach \nBianca: Ricotta Spread\, Mozzarella\, Garlic & Black Olives \nMargarita: Sauce\, Fresh Mozzarella\, Basil & EVOO \nMargarita Supreme: Sauce\, Fresh Mozzarella\, Ricotta\, Cherry Tomatoes\, Basil & EVOO \nCheese:  Sauce\, Mozzarella & Asiago \nFour Cheese:  Sauce\, Fresh Mozzarella\, Ricotta\, Asiago & Fontina \nMeat Lovers:  Sauce\, Mozzarella\, Pepperoni\, Ham\, Sausage\, & Bacon \nMake Your Own: Choice of up to 2 Meat Toppings or 3 Vegetable Toppings from list below \nToppings: Pepperoni\, Sausage\, Bacon\, Ham\, Mushrooms\, Spinach\, Onion\, Cherry  Tomatoes\, Pineapple\, Green Pepper\, Black Olives\, Banana Peppers and Arugula \n  \nGluten Free Pizza Crust is available for a $5.00 upcharge.  Maximum of 50 members. You can take your pizzas TO-GO if you are not interested in attending the event. \n 
URL:https://www.esplanadebytheislandslifestyle.com/event/bring-your-own-boos-halloween-mixer-with-vesuvius-wood-fire-pizza-truck/
LOCATION:Sales Gallery
CATEGORIES:Dining & Happy Hour,Lifestyle Activities and Events
ATTACH;FMTTYPE=image/jpeg:https://www.esplanadebytheislandslifestyle.com/wp-content/uploads/sites/64/2022/07/GourmetPizza-3-scaled.jpg
ORGANIZER;CN="Carri Adam":MAILTO:Carri.Adam@teamesplanade.com
END:VEVENT
BEGIN:VEVENT
DTSTART;TZID=America/New_York:20221026T173000
DTEND;TZID=America/New_York:20221026T183000
DTSTAMP:20260423T075833
CREATED:20220721T173834Z
LAST-MODIFIED:20221026T153531Z
UID:4217-1666805400-1666809000@www.esplanadebytheislandslifestyle.com
SUMMARY:Howl-O-Ween Pet Parade-Rescheduled due to low particpation
DESCRIPTION:Dress your precious pawtner to impress as they parade in style in front of their fellow neighborhood pets! Everyone is invited to watch the festivities! Best dressed costume prize will be given to our pretty pooches and handsome hounds. Each pet will receive a “HOWLoween” canine goodie bag. Your pet must play well with others to participate. \nMinimum of 8 participants required to hold event. Registration required by Friday\, October 21.
URL:https://www.esplanadebytheislandslifestyle.com/event/howloween-pet-parade/
LOCATION:Sales Gallery
CATEGORIES:Lifestyle Activities and Events,Pets
ATTACH;FMTTYPE=image/jpeg:https://www.esplanadebytheislandslifestyle.com/wp-content/uploads/sites/64/2022/07/Howl-O-Ween-2-scaled.jpg
ORGANIZER;CN="Carri Adam":MAILTO:Carri.Adam@teamesplanade.com
END:VEVENT
END:VCALENDAR