BEGIN:VCALENDAR
VERSION:2.0
PRODID:-//Esplanade by the Islands - ECPv6.15.15//NONSGML v1.0//EN
CALSCALE:GREGORIAN
METHOD:PUBLISH
X-ORIGINAL-URL:https://www.esplanadebytheislandslifestyle.com
X-WR-CALDESC:Events for Esplanade by the Islands
REFRESH-INTERVAL;VALUE=DURATION:PT1H
X-Robots-Tag:noindex
X-PUBLISHED-TTL:PT1H
BEGIN:VTIMEZONE
TZID:America/New_York
BEGIN:DAYLIGHT
TZOFFSETFROM:-0500
TZOFFSETTO:-0400
TZNAME:EDT
DTSTART:20250309T070000
END:DAYLIGHT
BEGIN:STANDARD
TZOFFSETFROM:-0400
TZOFFSETTO:-0500
TZNAME:EST
DTSTART:20251102T060000
END:STANDARD
BEGIN:DAYLIGHT
TZOFFSETFROM:-0500
TZOFFSETTO:-0400
TZNAME:EDT
DTSTART:20260308T070000
END:DAYLIGHT
BEGIN:STANDARD
TZOFFSETFROM:-0400
TZOFFSETTO:-0500
TZNAME:EST
DTSTART:20261101T060000
END:STANDARD
BEGIN:DAYLIGHT
TZOFFSETFROM:-0500
TZOFFSETTO:-0400
TZNAME:EDT
DTSTART:20270314T070000
END:DAYLIGHT
BEGIN:STANDARD
TZOFFSETFROM:-0400
TZOFFSETTO:-0500
TZNAME:EST
DTSTART:20271107T060000
END:STANDARD
END:VTIMEZONE
BEGIN:VEVENT
DTSTART;TZID=America/New_York:20260507T111500
DTEND;TZID=America/New_York:20260507T121500
DTSTAMP:20260421T195221
CREATED:20251205T203107Z
LAST-MODIFIED:20260307T211344Z
UID:68798-1778152500-1778156100@www.esplanadebytheislandslifestyle.com
SUMMARY:Body Sculpt: Instructor- Page
DESCRIPTION:Get lean\, build strength\, and tone muscle in this high-energy class! Use weighted bars and dumbbells for a variety of exercises to great music. Stretch throughout this class and end with core work to complete this total body workout.
URL:https://www.esplanadebytheislandslifestyle.com/event/body-sculpt-instructor-page-31/2026-05-07/
LOCATION:Resort Amenity Center- Movement Studio
CATEGORIES:Fitness & Wellness
ATTACH;FMTTYPE=image/jpeg:https://www.esplanadebytheislandslifestyle.com/wp-content/uploads/sites/64/2024/09/1433_fitness_346.jpg
END:VEVENT
BEGIN:VEVENT
DTSTART;TZID=America/New_York:20260512T111500
DTEND;TZID=America/New_York:20260512T121500
DTSTAMP:20260421T195221
CREATED:20251205T203107Z
LAST-MODIFIED:20260307T211345Z
UID:68799-1778584500-1778588100@www.esplanadebytheislandslifestyle.com
SUMMARY:Body Sculpt: Instructor- Page
DESCRIPTION:Get lean\, build strength\, and tone muscle in this high-energy class! Use weighted bars and dumbbells for a variety of exercises to great music. Stretch throughout this class and end with core work to complete this total body workout.
URL:https://www.esplanadebytheislandslifestyle.com/event/body-sculpt-instructor-page-31/2026-05-12/
LOCATION:Resort Amenity Center- Movement Studio
CATEGORIES:Fitness & Wellness
ATTACH;FMTTYPE=image/jpeg:https://www.esplanadebytheislandslifestyle.com/wp-content/uploads/sites/64/2024/09/1433_fitness_346.jpg
END:VEVENT
BEGIN:VEVENT
DTSTART;TZID=America/New_York:20260512T121500
DTEND;TZID=America/New_York:20260512T131500
DTSTAMP:20260421T195221
CREATED:20250714T170851Z
LAST-MODIFIED:20250714T170851Z
UID:69130-1778588100-1778591700@www.esplanadebytheislandslifestyle.com
SUMMARY:Dance Fit - Instructor Page
DESCRIPTION:Dance Fit is a lively\, full-body workout that combines dance-inspired cardio with fusion-style fitness exercises. Designed to elevate your heart rate\, burn calories\, and tone muscles\, this fun and energizing class offers a great way to stay active while enjoying the rhythm of movement. Don’t miss out on this exciting opportunity to transform your workout routine and achieve your fitness goals with our Dance Fit Class.
URL:https://www.esplanadebytheislandslifestyle.com/event/cardio-dance-fusion-instructor-page-8/2026-05-12/
LOCATION:Resort Amenity Center- Movement Studio
CATEGORIES:Fitness & Wellness
ATTACH;FMTTYPE=image/jpeg:https://www.esplanadebytheislandslifestyle.com/wp-content/uploads/sites/64/2025/05/GroupDance.jpg
END:VEVENT
BEGIN:VEVENT
DTSTART;TZID=America/New_York:20260513T070000
DTEND;TZID=America/New_York:20260513T080000
DTSTAMP:20260421T195221
CREATED:20251205T171032Z
LAST-MODIFIED:20251205T171032Z
UID:69142-1778655600-1778659200@www.esplanadebytheislandslifestyle.com
SUMMARY:Total Body Strength with Weights:  Instructor Franky
DESCRIPTION:Energetic & MotivatingBuild strength from head to toe in this Total Body Strength class! This dynamic workout targets all major muscle groups using a combination of weights\, bodyweight exercises\, and functional movements to improve strength\, endurance\, and overall fitness. Suitable for all levels—modifications are provided so you can work at your own pace.
URL:https://www.esplanadebytheislandslifestyle.com/event/body-sculpt-instructor-page-28/2026-05-13/
LOCATION:Resort Amenity Center- Movement Studio
CATEGORIES:Fitness & Wellness
ATTACH;FMTTYPE=image/jpeg:https://www.esplanadebytheislandslifestyle.com/wp-content/uploads/sites/64/2024/09/1433_fitness_346.jpg
END:VEVENT
BEGIN:VEVENT
DTSTART;TZID=America/New_York:20260514T111500
DTEND;TZID=America/New_York:20260514T121500
DTSTAMP:20260421T195221
CREATED:20251205T203107Z
LAST-MODIFIED:20260307T211347Z
UID:68800-1778757300-1778760900@www.esplanadebytheislandslifestyle.com
SUMMARY:Body Sculpt: Instructor- Page
DESCRIPTION:Get lean\, build strength\, and tone muscle in this high-energy class! Use weighted bars and dumbbells for a variety of exercises to great music. Stretch throughout this class and end with core work to complete this total body workout.
URL:https://www.esplanadebytheislandslifestyle.com/event/body-sculpt-instructor-page-31/2026-05-14/
LOCATION:Resort Amenity Center- Movement Studio
CATEGORIES:Fitness & Wellness
ATTACH;FMTTYPE=image/jpeg:https://www.esplanadebytheislandslifestyle.com/wp-content/uploads/sites/64/2024/09/1433_fitness_346.jpg
END:VEVENT
BEGIN:VEVENT
DTSTART;TZID=America/New_York:20260519T111500
DTEND;TZID=America/New_York:20260519T121500
DTSTAMP:20260421T195221
CREATED:20251205T203107Z
LAST-MODIFIED:20260307T211348Z
UID:68801-1779189300-1779192900@www.esplanadebytheislandslifestyle.com
SUMMARY:Body Sculpt: Instructor- Page
DESCRIPTION:Get lean\, build strength\, and tone muscle in this high-energy class! Use weighted bars and dumbbells for a variety of exercises to great music. Stretch throughout this class and end with core work to complete this total body workout.
URL:https://www.esplanadebytheislandslifestyle.com/event/body-sculpt-instructor-page-31/2026-05-19/
LOCATION:Resort Amenity Center- Movement Studio
CATEGORIES:Fitness & Wellness
ATTACH;FMTTYPE=image/jpeg:https://www.esplanadebytheislandslifestyle.com/wp-content/uploads/sites/64/2024/09/1433_fitness_346.jpg
END:VEVENT
BEGIN:VEVENT
DTSTART;TZID=America/New_York:20260519T121500
DTEND;TZID=America/New_York:20260519T131500
DTSTAMP:20260421T195221
CREATED:20250714T170851Z
LAST-MODIFIED:20250714T170851Z
UID:69131-1779192900-1779196500@www.esplanadebytheislandslifestyle.com
SUMMARY:Dance Fit - Instructor Page
DESCRIPTION:Dance Fit is a lively\, full-body workout that combines dance-inspired cardio with fusion-style fitness exercises. Designed to elevate your heart rate\, burn calories\, and tone muscles\, this fun and energizing class offers a great way to stay active while enjoying the rhythm of movement. Don’t miss out on this exciting opportunity to transform your workout routine and achieve your fitness goals with our Dance Fit Class.
URL:https://www.esplanadebytheislandslifestyle.com/event/cardio-dance-fusion-instructor-page-8/2026-05-19/
LOCATION:Resort Amenity Center- Movement Studio
CATEGORIES:Fitness & Wellness
ATTACH;FMTTYPE=image/jpeg:https://www.esplanadebytheislandslifestyle.com/wp-content/uploads/sites/64/2025/05/GroupDance.jpg
END:VEVENT
BEGIN:VEVENT
DTSTART;TZID=America/New_York:20260520T070000
DTEND;TZID=America/New_York:20260520T080000
DTSTAMP:20260421T195221
CREATED:20251205T171032Z
LAST-MODIFIED:20251205T171032Z
UID:69143-1779260400-1779264000@www.esplanadebytheislandslifestyle.com
SUMMARY:Total Body Strength with Weights:  Instructor Franky
DESCRIPTION:Energetic & MotivatingBuild strength from head to toe in this Total Body Strength class! This dynamic workout targets all major muscle groups using a combination of weights\, bodyweight exercises\, and functional movements to improve strength\, endurance\, and overall fitness. Suitable for all levels—modifications are provided so you can work at your own pace.
URL:https://www.esplanadebytheislandslifestyle.com/event/body-sculpt-instructor-page-28/2026-05-20/
LOCATION:Resort Amenity Center- Movement Studio
CATEGORIES:Fitness & Wellness
ATTACH;FMTTYPE=image/jpeg:https://www.esplanadebytheislandslifestyle.com/wp-content/uploads/sites/64/2024/09/1433_fitness_346.jpg
END:VEVENT
BEGIN:VEVENT
DTSTART;TZID=America/New_York:20260521T111500
DTEND;TZID=America/New_York:20260521T121500
DTSTAMP:20260421T195221
CREATED:20251205T203107Z
LAST-MODIFIED:20260307T211348Z
UID:68802-1779362100-1779365700@www.esplanadebytheislandslifestyle.com
SUMMARY:Body Sculpt: Instructor- Page
DESCRIPTION:Get lean\, build strength\, and tone muscle in this high-energy class! Use weighted bars and dumbbells for a variety of exercises to great music. Stretch throughout this class and end with core work to complete this total body workout.
URL:https://www.esplanadebytheislandslifestyle.com/event/body-sculpt-instructor-page-31/2026-05-21/
LOCATION:Resort Amenity Center- Movement Studio
CATEGORIES:Fitness & Wellness
ATTACH;FMTTYPE=image/jpeg:https://www.esplanadebytheislandslifestyle.com/wp-content/uploads/sites/64/2024/09/1433_fitness_346.jpg
END:VEVENT
BEGIN:VEVENT
DTSTART;TZID=America/New_York:20260526T111500
DTEND;TZID=America/New_York:20260526T121500
DTSTAMP:20260421T195221
CREATED:20251205T203107Z
LAST-MODIFIED:20260307T211349Z
UID:68803-1779794100-1779797700@www.esplanadebytheislandslifestyle.com
SUMMARY:Body Sculpt: Instructor- Page
DESCRIPTION:Get lean\, build strength\, and tone muscle in this high-energy class! Use weighted bars and dumbbells for a variety of exercises to great music. Stretch throughout this class and end with core work to complete this total body workout.
URL:https://www.esplanadebytheislandslifestyle.com/event/body-sculpt-instructor-page-31/2026-05-26/
LOCATION:Resort Amenity Center- Movement Studio
CATEGORIES:Fitness & Wellness
ATTACH;FMTTYPE=image/jpeg:https://www.esplanadebytheislandslifestyle.com/wp-content/uploads/sites/64/2024/09/1433_fitness_346.jpg
END:VEVENT
BEGIN:VEVENT
DTSTART;TZID=America/New_York:20260526T121500
DTEND;TZID=America/New_York:20260526T131500
DTSTAMP:20260421T195221
CREATED:20250714T170851Z
LAST-MODIFIED:20250714T170851Z
UID:69132-1779797700-1779801300@www.esplanadebytheislandslifestyle.com
SUMMARY:Dance Fit - Instructor Page
DESCRIPTION:Dance Fit is a lively\, full-body workout that combines dance-inspired cardio with fusion-style fitness exercises. Designed to elevate your heart rate\, burn calories\, and tone muscles\, this fun and energizing class offers a great way to stay active while enjoying the rhythm of movement. Don’t miss out on this exciting opportunity to transform your workout routine and achieve your fitness goals with our Dance Fit Class.
URL:https://www.esplanadebytheislandslifestyle.com/event/cardio-dance-fusion-instructor-page-8/2026-05-26/
LOCATION:Resort Amenity Center- Movement Studio
CATEGORIES:Fitness & Wellness
ATTACH;FMTTYPE=image/jpeg:https://www.esplanadebytheislandslifestyle.com/wp-content/uploads/sites/64/2025/05/GroupDance.jpg
END:VEVENT
BEGIN:VEVENT
DTSTART;TZID=America/New_York:20260527T070000
DTEND;TZID=America/New_York:20260527T080000
DTSTAMP:20260421T195221
CREATED:20251205T171032Z
LAST-MODIFIED:20251205T171032Z
UID:69144-1779865200-1779868800@www.esplanadebytheislandslifestyle.com
SUMMARY:Total Body Strength with Weights:  Instructor Franky
DESCRIPTION:Energetic & MotivatingBuild strength from head to toe in this Total Body Strength class! This dynamic workout targets all major muscle groups using a combination of weights\, bodyweight exercises\, and functional movements to improve strength\, endurance\, and overall fitness. Suitable for all levels—modifications are provided so you can work at your own pace.
URL:https://www.esplanadebytheislandslifestyle.com/event/body-sculpt-instructor-page-28/2026-05-27/
LOCATION:Resort Amenity Center- Movement Studio
CATEGORIES:Fitness & Wellness
ATTACH;FMTTYPE=image/jpeg:https://www.esplanadebytheislandslifestyle.com/wp-content/uploads/sites/64/2024/09/1433_fitness_346.jpg
END:VEVENT
BEGIN:VEVENT
DTSTART;TZID=America/New_York:20260528T111500
DTEND;TZID=America/New_York:20260528T121500
DTSTAMP:20260421T195221
CREATED:20251205T203107Z
LAST-MODIFIED:20260307T211350Z
UID:68804-1779966900-1779970500@www.esplanadebytheislandslifestyle.com
SUMMARY:Body Sculpt: Instructor- Page
DESCRIPTION:Get lean\, build strength\, and tone muscle in this high-energy class! Use weighted bars and dumbbells for a variety of exercises to great music. Stretch throughout this class and end with core work to complete this total body workout.
URL:https://www.esplanadebytheislandslifestyle.com/event/body-sculpt-instructor-page-31/2026-05-28/
LOCATION:Resort Amenity Center- Movement Studio
CATEGORIES:Fitness & Wellness
ATTACH;FMTTYPE=image/jpeg:https://www.esplanadebytheislandslifestyle.com/wp-content/uploads/sites/64/2024/09/1433_fitness_346.jpg
END:VEVENT
END:VCALENDAR