BEGIN:VCALENDAR
VERSION:2.0
PRODID:-//Esplanade by the Islands - ECPv6.15.15//NONSGML v1.0//EN
CALSCALE:GREGORIAN
METHOD:PUBLISH
X-WR-CALNAME:Esplanade by the Islands
X-ORIGINAL-URL:https://www.esplanadebytheislandslifestyle.com
X-WR-CALDESC:Events for Esplanade by the Islands
REFRESH-INTERVAL;VALUE=DURATION:PT1H
X-Robots-Tag:noindex
X-PUBLISHED-TTL:PT1H
BEGIN:VTIMEZONE
TZID:America/New_York
BEGIN:DAYLIGHT
TZOFFSETFROM:-0500
TZOFFSETTO:-0400
TZNAME:EDT
DTSTART:20220313T070000
END:DAYLIGHT
BEGIN:STANDARD
TZOFFSETFROM:-0400
TZOFFSETTO:-0500
TZNAME:EST
DTSTART:20221106T060000
END:STANDARD
BEGIN:DAYLIGHT
TZOFFSETFROM:-0500
TZOFFSETTO:-0400
TZNAME:EDT
DTSTART:20230312T070000
END:DAYLIGHT
BEGIN:STANDARD
TZOFFSETFROM:-0400
TZOFFSETTO:-0500
TZNAME:EST
DTSTART:20231105T060000
END:STANDARD
BEGIN:DAYLIGHT
TZOFFSETFROM:-0500
TZOFFSETTO:-0400
TZNAME:EDT
DTSTART:20240310T070000
END:DAYLIGHT
BEGIN:STANDARD
TZOFFSETFROM:-0400
TZOFFSETTO:-0500
TZNAME:EST
DTSTART:20241103T060000
END:STANDARD
END:VTIMEZONE
BEGIN:VEVENT
DTSTART;TZID=America/New_York:20230817T160000
DTEND;TZID=America/New_York:20230817T180000
DTSTAMP:20260422T211534
CREATED:20230710T183022Z
LAST-MODIFIED:20230801T124345Z
UID:30491-1692288000-1692295200@www.esplanadebytheislandslifestyle.com
SUMMARY:Happy Hour - Postponed
DESCRIPTION:The grand opening of The Snook Inn has been postponed according to management.  They are now set to reopen the beginning of September.  We will reschedule this happy hour event as soon as we have confirmation.  An update will follow. \nJoin your neighbors for happy hour at a local hotspot “The Snook Inn.”  The Snook Inn is a landmark in Collier County.  It suffered extreme damage from hurricane Ian and has been undergoing renovations since.  It is due to reopen the beginning of August.  Come celebrate the grand reopening with all the locals. \nSince parking is limited lets try to carpool or Uber to the location if possible!
URL:https://www.esplanadebytheislandslifestyle.com/event/happy-hour/
LOCATION:Snook Inn\, 1215 Bald Eagle Dr.\, Marco Island\, Florida\, 34145
CATEGORIES:Lifestyle Activities and Events
ATTACH;FMTTYPE=image/jpeg:https://www.esplanadebytheislandslifestyle.com/wp-content/uploads/sites/64/2023/07/drink.jpg
END:VEVENT
END:VCALENDAR