BEGIN:VCALENDAR
VERSION:2.0
PRODID:-//Esplanade by the Islands - ECPv6.15.15//NONSGML v1.0//EN
CALSCALE:GREGORIAN
METHOD:PUBLISH
X-ORIGINAL-URL:https://www.esplanadebytheislandslifestyle.com
X-WR-CALDESC:Events for Esplanade by the Islands
REFRESH-INTERVAL;VALUE=DURATION:PT1H
X-Robots-Tag:noindex
X-PUBLISHED-TTL:PT1H
BEGIN:VTIMEZONE
TZID:America/New_York
BEGIN:DAYLIGHT
TZOFFSETFROM:-0500
TZOFFSETTO:-0400
TZNAME:EDT
DTSTART:20250309T070000
END:DAYLIGHT
BEGIN:STANDARD
TZOFFSETFROM:-0400
TZOFFSETTO:-0500
TZNAME:EST
DTSTART:20251102T060000
END:STANDARD
BEGIN:DAYLIGHT
TZOFFSETFROM:-0500
TZOFFSETTO:-0400
TZNAME:EDT
DTSTART:20260308T070000
END:DAYLIGHT
BEGIN:STANDARD
TZOFFSETFROM:-0400
TZOFFSETTO:-0500
TZNAME:EST
DTSTART:20261101T060000
END:STANDARD
BEGIN:DAYLIGHT
TZOFFSETFROM:-0500
TZOFFSETTO:-0400
TZNAME:EDT
DTSTART:20270314T070000
END:DAYLIGHT
BEGIN:STANDARD
TZOFFSETFROM:-0400
TZOFFSETTO:-0500
TZNAME:EST
DTSTART:20271107T060000
END:STANDARD
END:VTIMEZONE
BEGIN:VEVENT
DTSTART;TZID=America/New_York:20260508T083000
DTEND;TZID=America/New_York:20260508T100000
DTSTAMP:20260421T150003
CREATED:20260413T122421Z
LAST-MODIFIED:20260413T122421Z
UID:71856-1778229000-1778234400@www.esplanadebytheislandslifestyle.com
SUMMARY:Cardio Tennis Clinic
DESCRIPTION:Join Racket Sports Teaching Professional Ted Heiser for a morning of cardio drills and a friendly court competition!  This is a great opportunity to meet your neighbors and make new connections with Members who enjoy playing. \n\n\nCardio Tennis is an engaging group fitness program featuring the heart-pumping effects of tennis drills\, games\, and skills. It delivers the ultimate full-body and calorie-burning aerobic and anaerobic workout. \nAll levels welcome. Please bring a racket!
URL:https://www.esplanadebytheislandslifestyle.com/event/cardio-tennis-clinic-85/
LOCATION:Tennis Courts
CATEGORIES:Courts
ATTACH;FMTTYPE=image/jpeg:https://www.esplanadebytheislandslifestyle.com/wp-content/uploads/sites/64/2024/11/66a4fc8f-2922-e4f6-288f-482ad1b58846.jpg
END:VEVENT
BEGIN:VEVENT
DTSTART;TZID=America/New_York:20260512T083000
DTEND;TZID=America/New_York:20260512T100000
DTSTAMP:20260421T150003
CREATED:20260413T122602Z
LAST-MODIFIED:20260413T122602Z
UID:71859-1778574600-1778580000@www.esplanadebytheislandslifestyle.com
SUMMARY:Cardio Tennis Clinic
DESCRIPTION:Join Racket Sports Teaching Professional Ted Heiser for a morning of cardio drills and a friendly court competition!  This is a great opportunity to meet your neighbors and make new connections with Members who enjoy playing. \n\n\nCardio Tennis is an engaging group fitness program featuring the heart-pumping effects of tennis drills\, games\, and skills. It delivers the ultimate full-body and calorie-burning aerobic and anaerobic workout. \nAll levels welcome. Please bring a racket!
URL:https://www.esplanadebytheislandslifestyle.com/event/cardio-tennis-clinic-86/
LOCATION:Tennis Courts
CATEGORIES:Courts
ATTACH;FMTTYPE=image/jpeg:https://www.esplanadebytheislandslifestyle.com/wp-content/uploads/sites/64/2024/11/66a4fc8f-2922-e4f6-288f-482ad1b58846.jpg
ORGANIZER;CN="Ted Heiser":MAILTO:ted.heiser@teamesplanade.com
END:VEVENT
BEGIN:VEVENT
DTSTART;TZID=America/New_York:20260512T103000
DTEND;TZID=America/New_York:20260512T113000
DTSTAMP:20260421T150003
CREATED:20260413T123010Z
LAST-MODIFIED:20260413T123010Z
UID:71868-1778581800-1778585400@www.esplanadebytheislandslifestyle.com
SUMMARY:Tennis Strategy
DESCRIPTION:Join Racket Sports Teaching Professional Ted Heiser for a morning of learning tennis strategy!  This is a great opportunity to learn the nuances and patterns for a winning formula. \n  \n\n\nAll levels welcome. Please bring a racket!
URL:https://www.esplanadebytheislandslifestyle.com/event/tennis-strategy-17/
LOCATION:Tennis Courts
CATEGORIES:Courts
ATTACH;FMTTYPE=image/png:https://www.esplanadebytheislandslifestyle.com/wp-content/uploads/sites/64/2022/01/High-Res-tennis-06-1-1024x687-1.png
ORGANIZER;CN="Ted Heiser":MAILTO:ted.heiser@teamesplanade.com
END:VEVENT
BEGIN:VEVENT
DTSTART;TZID=America/New_York:20260513T090000
DTEND;TZID=America/New_York:20260513T100000
DTSTAMP:20260421T150003
CREATED:20260413T123318Z
LAST-MODIFIED:20260413T123318Z
UID:71877-1778662800-1778666400@www.esplanadebytheislandslifestyle.com
SUMMARY:Tennis Stroke Development
DESCRIPTION:Join Racket Sports Teaching Professional Ted Heiser for a morning of perfecting your tennis strokes.!  This is a great opportunity to learn the necessary muscle memory to produce consistent tennis shots. \n  \n\n\nAll levels welcome. Please bring a racket!
URL:https://www.esplanadebytheislandslifestyle.com/event/tennis-stroke-development-17/
LOCATION:Tennis Courts
CATEGORIES:Courts
ATTACH;FMTTYPE=image/png:https://www.esplanadebytheislandslifestyle.com/wp-content/uploads/sites/64/2022/01/High-Res-tennis-06-1-1024x687-1.png
ORGANIZER;CN="Ted Heiser":MAILTO:ted.heiser@teamesplanade.com
END:VEVENT
BEGIN:VEVENT
DTSTART;TZID=America/New_York:20260513T100000
DTEND;TZID=America/New_York:20260513T110000
DTSTAMP:20260421T150003
CREATED:20260413T123655Z
LAST-MODIFIED:20260413T123655Z
UID:71886-1778666400-1778670000@www.esplanadebytheislandslifestyle.com
SUMMARY:Tennis Match Play Strategy with Serves
DESCRIPTION:Join Racket Sports Teaching Professional Ted Heiser for a morning of Match Play Strategy.!  This is a great opportunity to learn in game strategy within live ball play. \n  \n\n\nAll levels welcome. Please bring a racket!
URL:https://www.esplanadebytheislandslifestyle.com/event/tennis-match-play-strategy-with-serves-17/
LOCATION:Tennis Courts
CATEGORIES:Courts
ATTACH;FMTTYPE=image/png:https://www.esplanadebytheislandslifestyle.com/wp-content/uploads/sites/64/2022/01/High-Res-tennis-06-1-1024x687-1.png
ORGANIZER;CN="Ted Heiser":MAILTO:ted.heiser@teamesplanade.com
END:VEVENT
BEGIN:VEVENT
DTSTART;TZID=America/New_York:20260515T083000
DTEND;TZID=America/New_York:20260515T100000
DTSTAMP:20260421T150003
CREATED:20260413T124740Z
LAST-MODIFIED:20260413T124740Z
UID:71919-1778833800-1778839200@www.esplanadebytheislandslifestyle.com
SUMMARY:Cardio Tennis Clinic
DESCRIPTION:Join Racket Sports Teaching Professional Ted Heiser for a morning of cardio drills and a friendly court competition!  This is a great opportunity to meet your neighbors and make new connections with Members who enjoy playing. \n\n\nCardio Tennis is an engaging group fitness program featuring the heart-pumping effects of tennis drills\, games\, and skills. It delivers the ultimate full-body and calorie-burning aerobic and anaerobic workout. \nAll levels welcome. Please bring a racket!
URL:https://www.esplanadebytheislandslifestyle.com/event/cardio-tennis-clinic-89/
LOCATION:Tennis Courts
CATEGORIES:Courts
ATTACH;FMTTYPE=image/jpeg:https://www.esplanadebytheislandslifestyle.com/wp-content/uploads/sites/64/2024/11/66a4fc8f-2922-e4f6-288f-482ad1b58846.jpg
END:VEVENT
BEGIN:VEVENT
DTSTART;TZID=America/New_York:20260519T083000
DTEND;TZID=America/New_York:20260519T100000
DTSTAMP:20260421T150003
CREATED:20260413T122635Z
LAST-MODIFIED:20260413T122635Z
UID:71862-1779179400-1779184800@www.esplanadebytheislandslifestyle.com
SUMMARY:Cardio Tennis Clinic
DESCRIPTION:Join Racket Sports Teaching Professional Ted Heiser for a morning of cardio drills and a friendly court competition!  This is a great opportunity to meet your neighbors and make new connections with Members who enjoy playing. \n\n\nCardio Tennis is an engaging group fitness program featuring the heart-pumping effects of tennis drills\, games\, and skills. It delivers the ultimate full-body and calorie-burning aerobic and anaerobic workout. \nAll levels welcome. Please bring a racket!
URL:https://www.esplanadebytheislandslifestyle.com/event/cardio-tennis-clinic-87/
LOCATION:Tennis Courts
CATEGORIES:Courts
ATTACH;FMTTYPE=image/jpeg:https://www.esplanadebytheislandslifestyle.com/wp-content/uploads/sites/64/2024/11/66a4fc8f-2922-e4f6-288f-482ad1b58846.jpg
ORGANIZER;CN="Ted Heiser":MAILTO:ted.heiser@teamesplanade.com
END:VEVENT
BEGIN:VEVENT
DTSTART;TZID=America/New_York:20260519T103000
DTEND;TZID=America/New_York:20260519T113000
DTSTAMP:20260421T150003
CREATED:20260413T123038Z
LAST-MODIFIED:20260413T123038Z
UID:71871-1779186600-1779190200@www.esplanadebytheislandslifestyle.com
SUMMARY:Tennis Strategy
DESCRIPTION:Join Racket Sports Teaching Professional Ted Heiser for a morning of learning tennis strategy!  This is a great opportunity to learn the nuances and patterns for a winning formula. \n  \n\n\nAll levels welcome. Please bring a racket!
URL:https://www.esplanadebytheislandslifestyle.com/event/tennis-strategy-18/
LOCATION:Tennis Courts
CATEGORIES:Courts
ATTACH;FMTTYPE=image/png:https://www.esplanadebytheislandslifestyle.com/wp-content/uploads/sites/64/2022/01/High-Res-tennis-06-1-1024x687-1.png
ORGANIZER;CN="Ted Heiser":MAILTO:ted.heiser@teamesplanade.com
END:VEVENT
BEGIN:VEVENT
DTSTART;TZID=America/New_York:20260520T090000
DTEND;TZID=America/New_York:20260520T100000
DTSTAMP:20260421T150003
CREATED:20260413T123358Z
LAST-MODIFIED:20260413T123358Z
UID:71880-1779267600-1779271200@www.esplanadebytheislandslifestyle.com
SUMMARY:Tennis Stroke Development
DESCRIPTION:Join Racket Sports Teaching Professional Ted Heiser for a morning of perfecting your tennis strokes.!  This is a great opportunity to learn the necessary muscle memory to produce consistent tennis shots. \n  \n\n\nAll levels welcome. Please bring a racket!
URL:https://www.esplanadebytheislandslifestyle.com/event/tennis-stroke-development-18/
LOCATION:Tennis Courts
CATEGORIES:Courts
ATTACH;FMTTYPE=image/png:https://www.esplanadebytheislandslifestyle.com/wp-content/uploads/sites/64/2022/01/High-Res-tennis-06-1-1024x687-1.png
ORGANIZER;CN="Ted Heiser":MAILTO:ted.heiser@teamesplanade.com
END:VEVENT
BEGIN:VEVENT
DTSTART;TZID=America/New_York:20260520T100000
DTEND;TZID=America/New_York:20260520T110000
DTSTAMP:20260421T150003
CREATED:20260413T123728Z
LAST-MODIFIED:20260413T123728Z
UID:71889-1779271200-1779274800@www.esplanadebytheislandslifestyle.com
SUMMARY:Tennis Match Play Strategy with Serves
DESCRIPTION:Join Racket Sports Teaching Professional Ted Heiser for a morning of Match Play Strategy.!  This is a great opportunity to learn in game strategy within live ball play. \n  \n\n\nAll levels welcome. Please bring a racket!
URL:https://www.esplanadebytheislandslifestyle.com/event/tennis-match-play-strategy-with-serves-18/
LOCATION:Tennis Courts
CATEGORIES:Courts
ATTACH;FMTTYPE=image/png:https://www.esplanadebytheislandslifestyle.com/wp-content/uploads/sites/64/2022/01/High-Res-tennis-06-1-1024x687-1.png
ORGANIZER;CN="Ted Heiser":MAILTO:ted.heiser@teamesplanade.com
END:VEVENT
BEGIN:VEVENT
DTSTART;TZID=America/New_York:20260522T083000
DTEND;TZID=America/New_York:20260522T100000
DTSTAMP:20260421T150003
CREATED:20260413T124807Z
LAST-MODIFIED:20260413T124807Z
UID:71922-1779438600-1779444000@www.esplanadebytheislandslifestyle.com
SUMMARY:Cardio Tennis Clinic
DESCRIPTION:Join Racket Sports Teaching Professional Ted Heiser for a morning of cardio drills and a friendly court competition!  This is a great opportunity to meet your neighbors and make new connections with Members who enjoy playing. \n\n\nCardio Tennis is an engaging group fitness program featuring the heart-pumping effects of tennis drills\, games\, and skills. It delivers the ultimate full-body and calorie-burning aerobic and anaerobic workout. \nAll levels welcome. Please bring a racket!
URL:https://www.esplanadebytheislandslifestyle.com/event/cardio-tennis-clinic-90/
LOCATION:Tennis Courts
CATEGORIES:Courts
ATTACH;FMTTYPE=image/jpeg:https://www.esplanadebytheislandslifestyle.com/wp-content/uploads/sites/64/2024/11/66a4fc8f-2922-e4f6-288f-482ad1b58846.jpg
END:VEVENT
BEGIN:VEVENT
DTSTART;TZID=America/New_York:20260526T083000
DTEND;TZID=America/New_York:20260526T100000
DTSTAMP:20260421T150003
CREATED:20260413T122703Z
LAST-MODIFIED:20260413T122703Z
UID:71865-1779784200-1779789600@www.esplanadebytheislandslifestyle.com
SUMMARY:Cardio Tennis Clinic
DESCRIPTION:Join Racket Sports Teaching Professional Ted Heiser for a morning of cardio drills and a friendly court competition!  This is a great opportunity to meet your neighbors and make new connections with Members who enjoy playing. \n\n\nCardio Tennis is an engaging group fitness program featuring the heart-pumping effects of tennis drills\, games\, and skills. It delivers the ultimate full-body and calorie-burning aerobic and anaerobic workout. \nAll levels welcome. Please bring a racket!
URL:https://www.esplanadebytheislandslifestyle.com/event/cardio-tennis-clinic-88/
LOCATION:Tennis Courts
CATEGORIES:Courts
ATTACH;FMTTYPE=image/jpeg:https://www.esplanadebytheislandslifestyle.com/wp-content/uploads/sites/64/2024/11/66a4fc8f-2922-e4f6-288f-482ad1b58846.jpg
ORGANIZER;CN="Ted Heiser":MAILTO:ted.heiser@teamesplanade.com
END:VEVENT
BEGIN:VEVENT
DTSTART;TZID=America/New_York:20260526T103000
DTEND;TZID=America/New_York:20260526T113000
DTSTAMP:20260421T150003
CREATED:20260413T123110Z
LAST-MODIFIED:20260413T123110Z
UID:71874-1779791400-1779795000@www.esplanadebytheislandslifestyle.com
SUMMARY:Tennis Strategy
DESCRIPTION:Join Racket Sports Teaching Professional Ted Heiser for a morning of learning tennis strategy!  This is a great opportunity to learn the nuances and patterns for a winning formula. \n  \n\n\nAll levels welcome. Please bring a racket!
URL:https://www.esplanadebytheislandslifestyle.com/event/tennis-strategy-19/
LOCATION:Tennis Courts
CATEGORIES:Courts
ATTACH;FMTTYPE=image/png:https://www.esplanadebytheislandslifestyle.com/wp-content/uploads/sites/64/2022/01/High-Res-tennis-06-1-1024x687-1.png
ORGANIZER;CN="Ted Heiser":MAILTO:ted.heiser@teamesplanade.com
END:VEVENT
BEGIN:VEVENT
DTSTART;TZID=America/New_York:20260527T090000
DTEND;TZID=America/New_York:20260527T100000
DTSTAMP:20260421T150003
CREATED:20260413T123426Z
LAST-MODIFIED:20260413T123426Z
UID:71883-1779872400-1779876000@www.esplanadebytheislandslifestyle.com
SUMMARY:Tennis Stroke Development
DESCRIPTION:Join Racket Sports Teaching Professional Ted Heiser for a morning of perfecting your tennis strokes.!  This is a great opportunity to learn the necessary muscle memory to produce consistent tennis shots. \n  \n\n\nAll levels welcome. Please bring a racket!
URL:https://www.esplanadebytheislandslifestyle.com/event/tennis-stroke-development-19/
LOCATION:Tennis Courts
CATEGORIES:Courts
ATTACH;FMTTYPE=image/png:https://www.esplanadebytheislandslifestyle.com/wp-content/uploads/sites/64/2022/01/High-Res-tennis-06-1-1024x687-1.png
ORGANIZER;CN="Ted Heiser":MAILTO:ted.heiser@teamesplanade.com
END:VEVENT
BEGIN:VEVENT
DTSTART;TZID=America/New_York:20260527T100000
DTEND;TZID=America/New_York:20260527T110000
DTSTAMP:20260421T150003
CREATED:20260413T123753Z
LAST-MODIFIED:20260413T123753Z
UID:71892-1779876000-1779879600@www.esplanadebytheislandslifestyle.com
SUMMARY:Tennis Match Play Strategy with Serves
DESCRIPTION:Join Racket Sports Teaching Professional Ted Heiser for a morning of Match Play Strategy.!  This is a great opportunity to learn in game strategy within live ball play. \n  \n\n\nAll levels welcome. Please bring a racket!
URL:https://www.esplanadebytheislandslifestyle.com/event/tennis-match-play-strategy-with-serves-19/
LOCATION:Tennis Courts
CATEGORIES:Courts
ATTACH;FMTTYPE=image/png:https://www.esplanadebytheislandslifestyle.com/wp-content/uploads/sites/64/2022/01/High-Res-tennis-06-1-1024x687-1.png
ORGANIZER;CN="Ted Heiser":MAILTO:ted.heiser@teamesplanade.com
END:VEVENT
BEGIN:VEVENT
DTSTART;TZID=America/New_York:20260605T083000
DTEND;TZID=America/New_York:20260605T100000
DTSTAMP:20260421T150003
CREATED:20260413T124843Z
LAST-MODIFIED:20260413T124843Z
UID:71925-1780648200-1780653600@www.esplanadebytheislandslifestyle.com
SUMMARY:Cardio Tennis Clinic
DESCRIPTION:Join Racket Sports Teaching Professional Ted Heiser for a morning of cardio drills and a friendly court competition!  This is a great opportunity to meet your neighbors and make new connections with Members who enjoy playing. \n\n\nCardio Tennis is an engaging group fitness program featuring the heart-pumping effects of tennis drills\, games\, and skills. It delivers the ultimate full-body and calorie-burning aerobic and anaerobic workout. \nAll levels welcome. Please bring a racket!
URL:https://www.esplanadebytheislandslifestyle.com/event/cardio-tennis-clinic-91/
LOCATION:Tennis Courts
CATEGORIES:Courts
ATTACH;FMTTYPE=image/jpeg:https://www.esplanadebytheislandslifestyle.com/wp-content/uploads/sites/64/2024/11/66a4fc8f-2922-e4f6-288f-482ad1b58846.jpg
END:VEVENT
BEGIN:VEVENT
DTSTART;TZID=America/New_York:20260609T083000
DTEND;TZID=America/New_York:20260609T100000
DTSTAMP:20260421T150003
CREATED:20260413T125054Z
LAST-MODIFIED:20260413T125054Z
UID:71928-1780993800-1780999200@www.esplanadebytheislandslifestyle.com
SUMMARY:Cardio Tennis Clinic
DESCRIPTION:Join Racket Sports Teaching Professional Ted Heiser for a morning of cardio drills and a friendly court competition!  This is a great opportunity to meet your neighbors and make new connections with Members who enjoy playing. \n\n\nCardio Tennis is an engaging group fitness program featuring the heart-pumping effects of tennis drills\, games\, and skills. It delivers the ultimate full-body and calorie-burning aerobic and anaerobic workout. \nAll levels welcome. Please bring a racket!
URL:https://www.esplanadebytheislandslifestyle.com/event/cardio-tennis-clinic-92/
LOCATION:Tennis Courts
CATEGORIES:Courts
ATTACH;FMTTYPE=image/jpeg:https://www.esplanadebytheislandslifestyle.com/wp-content/uploads/sites/64/2024/11/66a4fc8f-2922-e4f6-288f-482ad1b58846.jpg
ORGANIZER;CN="Ted Heiser":MAILTO:ted.heiser@teamesplanade.com
END:VEVENT
BEGIN:VEVENT
DTSTART;TZID=America/New_York:20260609T103000
DTEND;TZID=America/New_York:20260609T113000
DTSTAMP:20260421T150004
CREATED:20260413T125218Z
LAST-MODIFIED:20260413T125218Z
UID:71931-1781001000-1781004600@www.esplanadebytheislandslifestyle.com
SUMMARY:Tennis Strategy
DESCRIPTION:Join Racket Sports Teaching Professional Ted Heiser for a morning of learning tennis strategy!  This is a great opportunity to learn the nuances and patterns for a winning formula. \n  \n\n\nAll levels welcome. Please bring a racket!
URL:https://www.esplanadebytheislandslifestyle.com/event/tennis-strategy-20/
LOCATION:Tennis Courts
CATEGORIES:Courts
ATTACH;FMTTYPE=image/png:https://www.esplanadebytheislandslifestyle.com/wp-content/uploads/sites/64/2022/01/High-Res-tennis-06-1-1024x687-1.png
ORGANIZER;CN="Ted Heiser":MAILTO:ted.heiser@teamesplanade.com
END:VEVENT
BEGIN:VEVENT
DTSTART;TZID=America/New_York:20260610T090000
DTEND;TZID=America/New_York:20260610T100000
DTSTAMP:20260421T150004
CREATED:20260413T125855Z
LAST-MODIFIED:20260413T125855Z
UID:71934-1781082000-1781085600@www.esplanadebytheislandslifestyle.com
SUMMARY:Tennis Stroke Development
DESCRIPTION:Join Racket Sports Teaching Professional Ted Heiser for a morning of perfecting your tennis strokes.!  This is a great opportunity to learn the necessary muscle memory to produce consistent tennis shots. \n  \n\n\nAll levels welcome. Please bring a racket!
URL:https://www.esplanadebytheislandslifestyle.com/event/tennis-stroke-development-20/
LOCATION:Tennis Courts
CATEGORIES:Courts
ATTACH;FMTTYPE=image/png:https://www.esplanadebytheislandslifestyle.com/wp-content/uploads/sites/64/2022/01/High-Res-tennis-06-1-1024x687-1.png
ORGANIZER;CN="Ted Heiser":MAILTO:ted.heiser@teamesplanade.com
END:VEVENT
BEGIN:VEVENT
DTSTART;TZID=America/New_York:20260610T100000
DTEND;TZID=America/New_York:20260610T110000
DTSTAMP:20260421T150004
CREATED:20260413T130053Z
LAST-MODIFIED:20260413T130053Z
UID:71937-1781085600-1781089200@www.esplanadebytheislandslifestyle.com
SUMMARY:Tennis Match Play Strategy with Serves
DESCRIPTION:Join Racket Sports Teaching Professional Ted Heiser for a morning of Match Play Strategy.!  This is a great opportunity to learn in game strategy within live ball play. \n  \n\n\nAll levels welcome. Please bring a racket!
URL:https://www.esplanadebytheislandslifestyle.com/event/tennis-match-play-strategy-with-serves-20/
LOCATION:Tennis Courts
CATEGORIES:Courts
ATTACH;FMTTYPE=image/png:https://www.esplanadebytheislandslifestyle.com/wp-content/uploads/sites/64/2022/01/High-Res-tennis-06-1-1024x687-1.png
ORGANIZER;CN="Ted Heiser":MAILTO:ted.heiser@teamesplanade.com
END:VEVENT
BEGIN:VEVENT
DTSTART;TZID=America/New_York:20260612T083000
DTEND;TZID=America/New_York:20260612T100000
DTSTAMP:20260421T150004
CREATED:20260413T140115Z
LAST-MODIFIED:20260413T140115Z
UID:71948-1781253000-1781258400@www.esplanadebytheislandslifestyle.com
SUMMARY:Cardio Tennis Clinic
DESCRIPTION:Join Racket Sports Teaching Professional Ted Heiser for a morning of cardio drills and a friendly court competition!  This is a great opportunity to meet your neighbors and make new connections with Members who enjoy playing. \n\n\nCardio Tennis is an engaging group fitness program featuring the heart-pumping effects of tennis drills\, games\, and skills. It delivers the ultimate full-body and calorie-burning aerobic and anaerobic workout. \nAll levels welcome. Please bring a racket!
URL:https://www.esplanadebytheislandslifestyle.com/event/cardio-tennis-clinic-93/
LOCATION:Tennis Courts
CATEGORIES:Courts
ATTACH;FMTTYPE=image/jpeg:https://www.esplanadebytheislandslifestyle.com/wp-content/uploads/sites/64/2024/11/66a4fc8f-2922-e4f6-288f-482ad1b58846.jpg
END:VEVENT
END:VCALENDAR