BEGIN:VCALENDAR
VERSION:2.0
PRODID:-//Esplanade by the Islands - ECPv6.15.15//NONSGML v1.0//EN
CALSCALE:GREGORIAN
METHOD:PUBLISH
X-ORIGINAL-URL:https://www.esplanadebytheislandslifestyle.com
X-WR-CALDESC:Events for Esplanade by the Islands
REFRESH-INTERVAL;VALUE=DURATION:PT1H
X-Robots-Tag:noindex
X-PUBLISHED-TTL:PT1H
BEGIN:VTIMEZONE
TZID:America/New_York
BEGIN:DAYLIGHT
TZOFFSETFROM:-0500
TZOFFSETTO:-0400
TZNAME:EDT
DTSTART:20210314T070000
END:DAYLIGHT
BEGIN:STANDARD
TZOFFSETFROM:-0400
TZOFFSETTO:-0500
TZNAME:EST
DTSTART:20211107T060000
END:STANDARD
BEGIN:DAYLIGHT
TZOFFSETFROM:-0500
TZOFFSETTO:-0400
TZNAME:EDT
DTSTART:20220313T070000
END:DAYLIGHT
BEGIN:STANDARD
TZOFFSETFROM:-0400
TZOFFSETTO:-0500
TZNAME:EST
DTSTART:20221106T060000
END:STANDARD
BEGIN:DAYLIGHT
TZOFFSETFROM:-0500
TZOFFSETTO:-0400
TZNAME:EDT
DTSTART:20230312T070000
END:DAYLIGHT
BEGIN:STANDARD
TZOFFSETFROM:-0400
TZOFFSETTO:-0500
TZNAME:EST
DTSTART:20231105T060000
END:STANDARD
BEGIN:DAYLIGHT
TZOFFSETFROM:-0500
TZOFFSETTO:-0400
TZNAME:EDT
DTSTART:20240310T070000
END:DAYLIGHT
BEGIN:STANDARD
TZOFFSETFROM:-0400
TZOFFSETTO:-0500
TZNAME:EST
DTSTART:20241103T060000
END:STANDARD
END:VTIMEZONE
BEGIN:VEVENT
DTSTART;TZID=America/New_York:20231202T180000
DTEND;TZID=America/New_York:20231202T210000
DTSTAMP:20260423T011048
CREATED:20231010T200636Z
LAST-MODIFIED:20231201T175248Z
UID:31523-1701540000-1701550800@www.esplanadebytheislandslifestyle.com
SUMMARY:It's A Wonderful Lifestyle - Signature Event
DESCRIPTION:It’s a Wonderful Lifestyle will be a winter wonderland of cheer!  Join your Esplanade neighbors for this outstanding winter experience.  An extraordinary photo opportunity\, an over the top performance\, and unique entertainment will set the holiday mood!
URL:https://www.esplanadebytheislandslifestyle.com/event/its-a-wonderful-lifestyle-signature-event/
LOCATION:The Players Club at Lely Resort\, 8060 Grand Lely Drive\, Naples\, FL\, 34113\, United States
CATEGORIES:Lifestyle Activities and Events
ATTACH;FMTTYPE=image/jpeg:https://www.esplanadebytheislandslifestyle.com/wp-content/uploads/sites/64/2023/10/its-a-wonderful-lifestyle-scaled.jpg
ORGANIZER;CN="Jennifer Jaehrling":MAILTO:Jennifer.Jaehrling@teamesplanade.com
END:VEVENT
BEGIN:VEVENT
DTSTART;TZID=America/New_York:20230422T180000
DTEND;TZID=America/New_York:20230422T210000
DTSTAMP:20260423T011048
CREATED:20230308T165323Z
LAST-MODIFIED:20230410T142148Z
UID:7455-1682186400-1682197200@www.esplanadebytheislandslifestyle.com
SUMMARY:Havana Nights Signature Event
DESCRIPTION:Join us at The Players Club at Lely Resort for our next Signature Event. Sip on a mojito while you dance to the rhythms of our band. Ernesto\, our onsite cigar roller\, will amaze you with his talents. Capture the memories of the evening in our themed photobooth. You do not want to miss this event! A shuttle will be available to transport all attendees to the event venue and back with departure from the Sales Gallery. \nPlease register by April 9. Guests will only be allowed if we have space the week before the event and at a higher cost. \n  \nDINNER BUFFERT –\n— Cuban Salad with Feta & Garlic Lime Vinaigrette\n— Cuban Bread & Butter\n— Mahi Mahi with Mango Salsa\n— Ropa Vieja (Shredded Beef)\n— Cuban Black Beans & Rice\n— Fried Plantain Chips\n— Yuca Con Mojo (Yuca with Garlic Sauce)\n— Cuban Themed Dessert\n— Includes Iced Tea\, Soda or Coffee \n*Vegetarian meal available upon request. \n  \n  \n 
URL:https://www.esplanadebytheislandslifestyle.com/event/havana-nights-signature-event/
LOCATION:The Players Club at Lely Resort\, 8060 Grand Lely Drive\, Naples\, FL\, 34113\, United States
ATTACH;FMTTYPE=image/jpeg:https://www.esplanadebytheislandslifestyle.com/wp-content/uploads/sites/64/2023/03/havana-nights_no-logo-scaled.jpg
ORGANIZER;CN="Carri Adam":MAILTO:Carri.Adam@teamesplanade.com
END:VEVENT
BEGIN:VEVENT
DTSTART;TZID=America/New_York:20221203T180000
DTEND;TZID=America/New_York:20221203T210000
DTSTAMP:20260423T011048
CREATED:20220920T180008Z
LAST-MODIFIED:20221111T183426Z
UID:4751-1670090400-1670101200@www.esplanadebytheislandslifestyle.com
SUMMARY:"It's a Wonderful Lifestyle" Signature Event
DESCRIPTION:Toast to the wonderful lifestyle at Esplanade by the Islands at our final Signature Event of 2022! Come celebrate the season with neighbors while enjoying delicious faire\, dessert\, music and holiday fun. Festive holiday attire is encouraged\, but not required. No shorts or jeans please\, per club dress code. \nGuests will be allowed only if we have space the week before the event and at a higher cost. Email cadam@evergreen-lm.com if you are interested in bringing guests. \nLive music from Flora Top Hits Band. \nA cash bar will be available for libations. \nOutside alcohol\, beverages\, and food will not be permitted. You must cancel by November 20 to avoid being charged for this event. \nRegistration is required by Friday\, November 18. Anyone wishing to register after November 18 will be placed on a wait list. \nDinner Buffet \nGrilled Vegetable Platter with balsamic glaze & extra virgin olive oil\nMixed Greens with tomatoes and cucumbers with\nraspberry vinaigrette\nSliced Roast Beef with mushroom sauce\nGrilled Mahi Mahi with citrus butter sauce\nPan Seared Chicken with cranberry-pineapple salsa\nBaked Cheese Tortellini with sausage\, tomatoes and\npeppers “a la vodka”\nRoasted Red Skin Potatoes with caramelized onions\nVegetable Medley \nAssorted Holiday Cookies. \nIce Tea\, Coffee & Soda included at no additional charge.
URL:https://www.esplanadebytheislandslifestyle.com/event/its-a-wonderful-lifestyle-signature-event-2/
LOCATION:The Players Club at Lely Resort\, 8060 Grand Lely Drive\, Naples\, FL\, 34113\, United States
ATTACH;FMTTYPE=image/png:https://www.esplanadebytheislandslifestyle.com/wp-content/uploads/sites/64/2021/11/ChampagneToast.png
ORGANIZER;CN="Carri Adam":MAILTO:Carri.Adam@teamesplanade.com
END:VEVENT
END:VCALENDAR