BEGIN:VCALENDAR
VERSION:2.0
PRODID:-//Esplanade by the Islands - ECPv6.15.15//NONSGML v1.0//EN
CALSCALE:GREGORIAN
METHOD:PUBLISH
X-WR-CALNAME:Esplanade by the Islands
X-ORIGINAL-URL:https://www.esplanadebytheislandslifestyle.com
X-WR-CALDESC:Events for Esplanade by the Islands
REFRESH-INTERVAL;VALUE=DURATION:PT1H
X-Robots-Tag:noindex
X-PUBLISHED-TTL:PT1H
BEGIN:VTIMEZONE
TZID:America/New_York
BEGIN:DAYLIGHT
TZOFFSETFROM:-0500
TZOFFSETTO:-0400
TZNAME:EDT
DTSTART:20230312T070000
END:DAYLIGHT
BEGIN:STANDARD
TZOFFSETFROM:-0400
TZOFFSETTO:-0500
TZNAME:EST
DTSTART:20231105T060000
END:STANDARD
BEGIN:DAYLIGHT
TZOFFSETFROM:-0500
TZOFFSETTO:-0400
TZNAME:EDT
DTSTART:20240310T070000
END:DAYLIGHT
BEGIN:STANDARD
TZOFFSETFROM:-0400
TZOFFSETTO:-0500
TZNAME:EST
DTSTART:20241103T060000
END:STANDARD
BEGIN:DAYLIGHT
TZOFFSETFROM:-0500
TZOFFSETTO:-0400
TZNAME:EDT
DTSTART:20250309T070000
END:DAYLIGHT
BEGIN:STANDARD
TZOFFSETFROM:-0400
TZOFFSETTO:-0500
TZNAME:EST
DTSTART:20251102T060000
END:STANDARD
BEGIN:DAYLIGHT
TZOFFSETFROM:-0500
TZOFFSETTO:-0400
TZNAME:EDT
DTSTART:20260308T070000
END:DAYLIGHT
BEGIN:STANDARD
TZOFFSETFROM:-0400
TZOFFSETTO:-0500
TZNAME:EST
DTSTART:20261101T060000
END:STANDARD
END:VTIMEZONE
BEGIN:VEVENT
DTSTART;TZID=America/New_York:20250401T000000
DTEND;TZID=America/New_York:20250430T000000
DTSTAMP:20260422T135741
CREATED:20250403T181742Z
LAST-MODIFIED:20250404T163802Z
UID:51780-1743465600-1745971200@www.esplanadebytheislandslifestyle.com
SUMMARY:APRIL SPA EXPERIENCES
DESCRIPTION:  \nRAINDROP RELAXATION MASSAGE | $125 \nExperience the calming effect of a raindrop-inspired massage.  Essential oils mimic the gentle touch of rain\, promoting relaxation and serenity during this unique spa experience. \nAPRIL SHOWERS | $75 \nThis is an add – on service for any massage.  Wash away winter dryness with our exfoliating scrub\, enriched with April shower – inspired scents.  Revel in softer\, smoother skin as you prepare for the blooming season ahead. \nQUENCH AND GLOW FACIAL | $125 \nDive into a revitalizing oasis for your skin.  Our specialized Hydration Burst Facial replenishes moisture\, leaving your complexion dewy and luminous.  Indulge in a surge of hydration for a radiant\, refreshed look. \nHYDROHAVEN PEDICURE | $65 \nExperience ultimate foot care with our exclusive hydro pedicure treatment.  Soothing jets of warm water massage your feet\, while an exfoliating scrub and hydrating mask leave your skin soft and refreshed.  Treat your feet to a spa experience like no other.
URL:https://www.esplanadebytheislandslifestyle.com/event/april-spa-experiences/
LOCATION:The Spa
CATEGORIES:Fitness & Wellness
ATTACH;FMTTYPE=image/jpeg:https://www.esplanadebytheislandslifestyle.com/wp-content/uploads/sites/64/2025/03/3.jpg
END:VEVENT
BEGIN:VEVENT
DTSTART;TZID=America/New_York:20250123T150000
DTEND;TZID=America/New_York:20250123T163000
DTSTAMP:20260422T135741
CREATED:20241207T161310Z
LAST-MODIFIED:20250120T184618Z
UID:43018-1737644400-1737649800@www.esplanadebytheislandslifestyle.com
SUMMARY:Nu-Face Microcurrent Facial Beauty Live Demonstration- This event is postponed.
DESCRIPTION:Learn about the skincare benefits of Nu-Face Microcurrent. Achieve instant and cumulative results with the clinically proven benefits of microcurrent. Find the perfect treatment for your individual skincare needs and discover how to achieve more radiant\, youthful skin. \nAll Members who attend will receive a $25 credit towards their NuFace purchase at the Spa and also be entered into a drawing for a chance to win a complimentary Facial.
URL:https://www.esplanadebytheislandslifestyle.com/event/nu-face-microcurrent-facial-beauty-live-demonstration/
LOCATION:The Spa
CATEGORIES:Fitness & Wellness
ATTACH;FMTTYPE=image/png:https://www.esplanadebytheislandslifestyle.com/wp-content/uploads/sites/64/2024/12/WomaninMirror.png
END:VEVENT
BEGIN:VEVENT
DTSTART;TZID=America/New_York:20241218T150000
DTEND;TZID=America/New_York:20241218T170000
DTSTAMP:20260422T135741
CREATED:20241127T220650Z
LAST-MODIFIED:20241217T214850Z
UID:42417-1734534000-1734541200@www.esplanadebytheislandslifestyle.com
SUMMARY:Spa\, la-la
DESCRIPTION:Mark your calendars! You’re invited to a SPALIDAY party for an evening of wellness\, relaxation\, and retail therapy! All Members are invited to sip champagne\, enjoy sweet treats\, and mix and mingle with our team of spa professionals while learning about the beautiful treatments\, healing therapies\, and new spa retail partners at The Spa at Esplanade. As you enjoy the festivities\, you’ll also have the chance to win amazing wellness-inspired products in our raffle drawings.\nThis is your opportunity to immerse yourself in the ultimate wellness experience\, connect with like-minded individuals\, and kickstart your journey to a healthier\, happier you. Join us for a day of relaxation\, education\, and celebration at our Wellness Wonderland. We can’t wait to welcome you! All members that join us for an evening of retail therapy will also receive a voucher for $25 OFF your retail purchase of $100 or greater and chance to win an Annual Fitness Membership expires 12/31/2025!
URL:https://www.esplanadebytheislandslifestyle.com/event/spa-la-la/
LOCATION:The Spa
CATEGORIES:Courts,Fitness & Wellness
ATTACH;FMTTYPE=image/jpeg:https://www.esplanadebytheislandslifestyle.com/wp-content/uploads/sites/64/2024/11/christmas-lights.jpg
END:VEVENT
BEGIN:VEVENT
DTSTART;TZID=America/New_York:20241204T110000
DTEND;TZID=America/New_York:20241204T140000
DTSTAMP:20260422T135741
CREATED:20241111T030949Z
LAST-MODIFIED:20241113T021844Z
UID:41093-1733310000-1733320800@www.esplanadebytheislandslifestyle.com
SUMMARY:Complimentary Skin Care Consultations
DESCRIPTION:Fall in love with your skin by scheduling a complimentary skincare consultation to discuss your concerns with our Spa team. You will also receive 15% off your skincare purchase during your consult at our Fall in Love with Wellness Event. Learn more about our Spa services including HydraFacial\, as well as our product lines including HydroPeptide & Circadia for more beautiful\, radiant skin! Enter our complimentary drawing for a chance to win Spa treatments\, products and fun prizes. \nPlease register and then call the Spa Concierge to book your appt time. (239)920-2934 \nWalk-ins welcome based on availability.
URL:https://www.esplanadebytheislandslifestyle.com/event/complimentary-skin-care-consultations/
LOCATION:The Spa
CATEGORIES:Fitness & Wellness
ATTACH;FMTTYPE=image/jpeg:https://www.esplanadebytheislandslifestyle.com/wp-content/uploads/sites/64/2024/11/Spatreatments-1.jpg
END:VEVENT
END:VCALENDAR