BEGIN:VCALENDAR
VERSION:2.0
PRODID:-//Esplanade by the Islands - ECPv6.15.15//NONSGML v1.0//EN
CALSCALE:GREGORIAN
METHOD:PUBLISH
X-WR-CALNAME:Esplanade by the Islands
X-ORIGINAL-URL:https://www.esplanadebytheislandslifestyle.com
X-WR-CALDESC:Events for Esplanade by the Islands
REFRESH-INTERVAL;VALUE=DURATION:PT1H
X-Robots-Tag:noindex
X-PUBLISHED-TTL:PT1H
BEGIN:VTIMEZONE
TZID:America/New_York
BEGIN:DAYLIGHT
TZOFFSETFROM:-0500
TZOFFSETTO:-0400
TZNAME:EDT
DTSTART:20250309T070000
END:DAYLIGHT
BEGIN:STANDARD
TZOFFSETFROM:-0400
TZOFFSETTO:-0500
TZNAME:EST
DTSTART:20251102T060000
END:STANDARD
BEGIN:DAYLIGHT
TZOFFSETFROM:-0500
TZOFFSETTO:-0400
TZNAME:EDT
DTSTART:20260308T070000
END:DAYLIGHT
BEGIN:STANDARD
TZOFFSETFROM:-0400
TZOFFSETTO:-0500
TZNAME:EST
DTSTART:20261101T060000
END:STANDARD
BEGIN:DAYLIGHT
TZOFFSETFROM:-0500
TZOFFSETTO:-0400
TZNAME:EDT
DTSTART:20270314T070000
END:DAYLIGHT
BEGIN:STANDARD
TZOFFSETFROM:-0400
TZOFFSETTO:-0500
TZNAME:EST
DTSTART:20271107T060000
END:STANDARD
END:VTIMEZONE
BEGIN:VEVENT
DTSTART;TZID=America/New_York:20260420T160000
DTEND;TZID=America/New_York:20260420T173000
DTSTAMP:20260421T094048
CREATED:20260314T115656Z
LAST-MODIFIED:20260314T115656Z
UID:72184-1776700800-1776706200@www.esplanadebytheislandslifestyle.com
SUMMARY:Butterfly Garden Club
DESCRIPTION:A fun\, social and welcoming group that meets monthly to learn\, connect\, and meet neighbors who share an interest in nature and gardening. No prior gardening or butterfly knowledge is required. \nClub Contact: Adrian Edmonds | aedmonds622@gmail.com
URL:https://www.esplanadebytheislandslifestyle.com/event/butterfly-garden-club/2026-04-20/
LOCATION:The Venue
CATEGORIES:Clubs
END:VEVENT
BEGIN:VEVENT
DTSTART;TZID=America/New_York:20260417T163000
DTEND;TZID=America/New_York:20260417T183000
DTSTAMP:20260421T094048
CREATED:20260309T193608Z
LAST-MODIFIED:20260310T161744Z
UID:69330-1776443400-1776450600@www.esplanadebytheislandslifestyle.com
SUMMARY:April Showers Umbrella Decorating
DESCRIPTION:Brighten up those rainy spring days with a splash of creativity at our April Showers Umbrella Decorating event. We’ll provide the umbrellas and art supplies—your job is to turn a gloomy‑day essential into a colorful masterpiece. Think bold patterns\, quirky designs\, or whatever rainy‑day magic you can dream up. It’s a fun\, laid‑back way to welcome spring and give your future self a reason to smile the next time the clouds roll in.
URL:https://www.esplanadebytheislandslifestyle.com/event/april-showers-umbrella-decorating/
LOCATION:The Venue
CATEGORIES:Lifestyle Activities and Events
ATTACH;FMTTYPE=image/jpeg:https://www.esplanadebytheislandslifestyle.com/wp-content/uploads/sites/64/2026/03/Umbrella.jpg
END:VEVENT
BEGIN:VEVENT
DTSTART;TZID=America/New_York:20260417T090000
DTEND;TZID=America/New_York:20260417T100000
DTSTAMP:20260421T094048
CREATED:20260302T201740Z
LAST-MODIFIED:20260401T175742Z
UID:68277-1776416400-1776420000@www.esplanadebytheislandslifestyle.com
SUMMARY:Esplanade 101
DESCRIPTION:New Members can meet with the Community Association Manager and Lifestyle Manager to briefly discuss HOA and Lifestyle topics outlined in your Member Handbook. All closed Members are welcome attend!
URL:https://www.esplanadebytheislandslifestyle.com/event/esplanade-101-18/
LOCATION:The Venue
CATEGORIES:Community Meetings
ATTACH;FMTTYPE=image/png:https://www.esplanadebytheislandslifestyle.com/wp-content/uploads/sites/64/2026/02/Esplanade-101-Flyer-Copy.png
END:VEVENT
BEGIN:VEVENT
DTSTART;TZID=America/New_York:20260415T140000
DTEND;TZID=America/New_York:20260415T160000
DTSTAMP:20260421T094048
CREATED:20260314T122144Z
LAST-MODIFIED:20260314T122144Z
UID:69655-1776261600-1776268800@www.esplanadebytheislandslifestyle.com
SUMMARY:Mahjongg Club
DESCRIPTION:A fun\, social group that meets weekly to play the beloved tile game with 3-4 players per table. \nClub Contact: Rochelle Ducharme | rmc0585@gmail.com
URL:https://www.esplanadebytheislandslifestyle.com/event/mahjongg-club/2026-04-15/
LOCATION:The Venue
CATEGORIES:Clubs
END:VEVENT
BEGIN:VEVENT
DTSTART;TZID=America/New_York:20260414T190000
DTEND;TZID=America/New_York:20260414T220000
DTSTAMP:20260421T094048
CREATED:20260314T114505Z
LAST-MODIFIED:20260314T122619Z
UID:69239-1776193200-1776204000@www.esplanadebytheislandslifestyle.com
SUMMARY:Mahjong After Dark Club
DESCRIPTION:A fun\, social mahjong group for people looking for friendly games with a relaxed\, no-pressure vibe. \nClub Contact: Sarah Powell | spowell305@gmail.com
URL:https://www.esplanadebytheislandslifestyle.com/event/mahjong-after-dark-club/2026-04-14/
LOCATION:The Venue
CATEGORIES:Clubs
END:VEVENT
BEGIN:VEVENT
DTSTART;TZID=America/New_York:20260414T180000
DTEND;TZID=America/New_York:20260414T200000
DTSTAMP:20260421T094048
CREATED:20260309T170600Z
LAST-MODIFIED:20260309T170600Z
UID:69316-1776189600-1776196800@www.esplanadebytheislandslifestyle.com
SUMMARY:Culinary Collaboration - A Taste of Japan
DESCRIPTION:Continuing our global culinary journey with the next installment\, exploring the flavors of Japanese cuisine\, as members are invited to share a dish! Japan is known for its balance\, simplicity\, and beautiful presentation. Participants are welcome to bring a Japanese-inspired appetizer\, main dish\, dessert\, or beverage to share with the group.
URL:https://www.esplanadebytheislandslifestyle.com/event/culinary-collaboration-a-taste-of-japan/
LOCATION:The Venue
CATEGORIES:Lifestyle Activities and Events
ATTACH;FMTTYPE=image/jpeg:https://www.esplanadebytheislandslifestyle.com/wp-content/uploads/sites/64/2024/11/FamilyStylePotluck-2.jpg
END:VEVENT
BEGIN:VEVENT
DTSTART;TZID=America/New_York:20260413T090000
DTEND;TZID=America/New_York:20260413T120000
DTSTAMP:20260421T094048
CREATED:20260331T145622Z
LAST-MODIFIED:20260413T152309Z
UID:71491-1776070800-1776081600@www.esplanadebytheislandslifestyle.com
SUMMARY:Board Meeting
DESCRIPTION:The Venue is reserved for the Lucerna Board Meeting.
URL:https://www.esplanadebytheislandslifestyle.com/event/private-event-7/2026-04-13/
LOCATION:The Venue
CATEGORIES:Lifestyle Activities and Events
END:VEVENT
BEGIN:VEVENT
DTSTART;TZID=America/New_York:20260410T160000
DTEND;TZID=America/New_York:20260410T210000
DTSTAMP:20260421T094048
CREATED:20260326T131003Z
LAST-MODIFIED:20260326T131003Z
UID:71016-1775836800-1775854800@www.esplanadebytheislandslifestyle.com
SUMMARY:Private Event
DESCRIPTION:The Lifestyle Room at the Venue is closed for a private event.
URL:https://www.esplanadebytheislandslifestyle.com/event/private-event-3/
LOCATION:The Venue
CATEGORIES:Lifestyle Activities and Events
END:VEVENT
BEGIN:VEVENT
DTSTART;TZID=America/New_York:20260408T140000
DTEND;TZID=America/New_York:20260408T160000
DTSTAMP:20260421T094048
CREATED:20260314T122144Z
LAST-MODIFIED:20260314T122144Z
UID:69654-1775656800-1775664000@www.esplanadebytheislandslifestyle.com
SUMMARY:Mahjongg Club
DESCRIPTION:A fun\, social group that meets weekly to play the beloved tile game with 3-4 players per table. \nClub Contact: Rochelle Ducharme | rmc0585@gmail.com
URL:https://www.esplanadebytheislandslifestyle.com/event/mahjongg-club/2026-04-08/
LOCATION:The Venue
CATEGORIES:Clubs
END:VEVENT
BEGIN:VEVENT
DTSTART;TZID=America/New_York:20260407T190000
DTEND;TZID=America/New_York:20260407T220000
DTSTAMP:20260421T094048
CREATED:20260314T114505Z
LAST-MODIFIED:20260314T122618Z
UID:69238-1775588400-1775599200@www.esplanadebytheislandslifestyle.com
SUMMARY:Mahjong After Dark Club
DESCRIPTION:A fun\, social mahjong group for people looking for friendly games with a relaxed\, no-pressure vibe. \nClub Contact: Sarah Powell | spowell305@gmail.com
URL:https://www.esplanadebytheislandslifestyle.com/event/mahjong-after-dark-club/2026-04-07/
LOCATION:The Venue
CATEGORIES:Clubs
END:VEVENT
BEGIN:VEVENT
DTSTART;TZID=America/New_York:20260407T173000
DTEND;TZID=America/New_York:20260407T193000
DTSTAMP:20260421T094048
CREATED:20260314T121117Z
LAST-MODIFIED:20260314T121609Z
UID:69632-1775583000-1775590200@www.esplanadebytheislandslifestyle.com
SUMMARY:Book Club
DESCRIPTION:Join us each month for a welcoming and engaging Book Club where readers come together to enjoy a shared title and thoughtful conversation. All are welcome–just bring your curiosity and love of reading! \nFeatured Book for April: Theo of Golden by Allen Levi \nClub Contact: Tara Casimano | taracasimano@gmail.com
URL:https://www.esplanadebytheislandslifestyle.com/event/book-club/2026-04-07/
LOCATION:The Venue
CATEGORIES:Clubs
END:VEVENT
BEGIN:VEVENT
DTSTART;TZID=America/New_York:20260406T100000
DTEND;TZID=America/New_York:20260406T230000
DTSTAMP:20260421T094048
CREATED:20260402T163809Z
LAST-MODIFIED:20260402T163809Z
UID:71640-1775469600-1775516400@www.esplanadebytheislandslifestyle.com
SUMMARY:BTI Meeting - Private
DESCRIPTION:The Venue is reserved for a meeting.
URL:https://www.esplanadebytheislandslifestyle.com/event/bti-meeting-private/
LOCATION:The Venue
CATEGORIES:Lifestyle Activities and Events
END:VEVENT
BEGIN:VEVENT
DTSTART;TZID=America/New_York:20260403T090000
DTEND;TZID=America/New_York:20260403T100000
DTSTAMP:20260421T094048
CREATED:20260302T201522Z
LAST-MODIFIED:20260401T175308Z
UID:68273-1775206800-1775210400@www.esplanadebytheislandslifestyle.com
SUMMARY:Coffee and Conversation / Neighborhood News
DESCRIPTION:Join your HOA management team for the most current updates about the common areas and your community. Join us for some coffee and conversation\, as we discuss the latest and greatest Lifestyle news in a relaxed and social atmosphere.
URL:https://www.esplanadebytheislandslifestyle.com/event/coffee-and-conversation-neighborhood-news-32/
LOCATION:The Venue
CATEGORIES:Community Meetings
ATTACH;FMTTYPE=image/png:https://www.esplanadebytheislandslifestyle.com/wp-content/uploads/sites/64/2025/12/Coffee.png
END:VEVENT
BEGIN:VEVENT
DTSTART;TZID=America/New_York:20260402T160000
DTEND;TZID=America/New_York:20260402T173000
DTSTAMP:20260421T094048
CREATED:20260304T175117Z
LAST-MODIFIED:20260304T175117Z
UID:68332-1775145600-1775151000@www.esplanadebytheislandslifestyle.com
SUMMARY:Spring Egg Dye
DESCRIPTION:Let’s hop into spring with an egg dyeing event held at The Venue! Members bring their own boiled eggs\, as many as you like\, and the Lifestyle team will take care of the rest. Take your eggs home to enjoy for the holiday weekend.
URL:https://www.esplanadebytheislandslifestyle.com/event/spring-egg-dye/
LOCATION:The Venue
CATEGORIES:Lifestyle Activities and Events
ATTACH;FMTTYPE=image/jpeg:https://www.esplanadebytheislandslifestyle.com/wp-content/uploads/sites/64/2026/03/Easter-Egg.jpg
END:VEVENT
BEGIN:VEVENT
DTSTART;TZID=America/New_York:20260401T140000
DTEND;TZID=America/New_York:20260401T160000
DTSTAMP:20260421T094048
CREATED:20260314T122144Z
LAST-MODIFIED:20260314T122144Z
UID:69653-1775052000-1775059200@www.esplanadebytheislandslifestyle.com
SUMMARY:Mahjongg Club
DESCRIPTION:A fun\, social group that meets weekly to play the beloved tile game with 3-4 players per table. \nClub Contact: Rochelle Ducharme | rmc0585@gmail.com
URL:https://www.esplanadebytheislandslifestyle.com/event/mahjongg-club/2026-04-01/
LOCATION:The Venue
CATEGORIES:Clubs
END:VEVENT
BEGIN:VEVENT
DTSTART;VALUE=DATE:20260401
DTEND;VALUE=DATE:20260402
DTSTAMP:20260421T094048
CREATED:20260309T190004Z
LAST-MODIFIED:20260309T190004Z
UID:69327-1775001600-1775087999@www.esplanadebytheislandslifestyle.com
SUMMARY:April Fools' Day Tricky Taffy
DESCRIPTION:Put your guessing skills to the test at our April Fools’ Day Tricky Taffy Challenge! A jar packed with Laffy Taffy will be on display—but don’t be fooled\, it’s not as simple as it looks. Take your best guess at how many pieces are inside. The closest guess wins a sweet prize worthy of the best prankster.
URL:https://www.esplanadebytheislandslifestyle.com/event/april-fools-day-tricky-taffy/
LOCATION:The Venue
CATEGORIES:Lifestyle Activities and Events
END:VEVENT
BEGIN:VEVENT
DTSTART;TZID=America/New_York:20260331T190000
DTEND;TZID=America/New_York:20260331T220000
DTSTAMP:20260421T094048
CREATED:20260314T114505Z
LAST-MODIFIED:20260314T122618Z
UID:69237-1774983600-1774994400@www.esplanadebytheislandslifestyle.com
SUMMARY:Mahjong After Dark Club
DESCRIPTION:A fun\, social mahjong group for people looking for friendly games with a relaxed\, no-pressure vibe. \nClub Contact: Sarah Powell | spowell305@gmail.com
URL:https://www.esplanadebytheislandslifestyle.com/event/mahjong-after-dark-club/2026-03-31/
LOCATION:The Venue
CATEGORIES:Clubs
END:VEVENT
BEGIN:VEVENT
DTSTART;TZID=America/New_York:20260331T100000
DTEND;TZID=America/New_York:20260331T170000
DTSTAMP:20260421T094048
CREATED:20260328T112609Z
LAST-MODIFIED:20260328T112609Z
UID:71293-1774951200-1774976400@www.esplanadebytheislandslifestyle.com
SUMMARY:Magnificent Manatees
DESCRIPTION:Join us for our Magnificent Manatees event to mark the close of manatee season in Florida and shine a light on these beloved marine mammals. Stop by the Venue to answer a fun trivia question or discover new facts about manatees—their habits\, their habitats\, and the ways we can help protect them. Each participant will receive a themed sticker as a cheerful reminder of the importance of awareness and conservation. It will be an engaging\, educational celebration honoring one of Florida’s most iconic species.
URL:https://www.esplanadebytheislandslifestyle.com/event/magnificent-manatees/
LOCATION:The Venue
CATEGORIES:Lifestyle Activities and Events
END:VEVENT
BEGIN:VEVENT
DTSTART;TZID=America/New_York:20260331T093000
DTEND;TZID=America/New_York:20260331T123000
DTSTAMP:20260421T094048
CREATED:20260331T133652Z
LAST-MODIFIED:20260331T133652Z
UID:71489-1774949400-1774960200@www.esplanadebytheislandslifestyle.com
SUMMARY:Private Event
DESCRIPTION:The Lifestyle Room is reserved for a Private Event
URL:https://www.esplanadebytheislandslifestyle.com/event/private-event-6/
LOCATION:The Venue
CATEGORIES:Lifestyle Activities and Events
END:VEVENT
BEGIN:VEVENT
DTSTART;TZID=America/New_York:20260327T073000
DTEND;TZID=America/New_York:20260327T093000
DTSTAMP:20260421T094048
CREATED:20260326T145107Z
LAST-MODIFIED:20260415T165701Z
UID:71028-1774596600-1774603800@www.esplanadebytheislandslifestyle.com
SUMMARY:Spring Sunrise Bike Ride
DESCRIPTION:Join us for a fun and relaxing member-led bike ride! This is a great opportunity to enjoy the outdoors\, meet neighbors\, and get some exercise in a friendly\, social setting. All ages and skill levels are welcome. Whether you’re a seasoned cyclist or just looking for a casual ride\, this event is about connection and fun. Join us at the Venue after the ride for snacks and light-hearted conversation with your neighbors and fellow cycling enthusiasts.
URL:https://www.esplanadebytheislandslifestyle.com/event/spring-sunrise-bike-ride/2026-03-27/
LOCATION:The Venue
CATEGORIES:Lifestyle Activities and Events
ATTACH;FMTTYPE=image/jpeg:https://www.esplanadebytheislandslifestyle.com/wp-content/uploads/sites/64/2024/07/CoupleOnBikes.jpg
END:VEVENT
BEGIN:VEVENT
DTSTART;TZID=America/New_York:20260326T160000
DTEND;TZID=America/New_York:20260326T220000
DTSTAMP:20260421T094048
CREATED:20260325T210555Z
LAST-MODIFIED:20260325T210555Z
UID:71009-1774540800-1774562400@www.esplanadebytheislandslifestyle.com
SUMMARY:Private Event
DESCRIPTION:The Venue is reserved for a private event.
URL:https://www.esplanadebytheislandslifestyle.com/event/private-event-2/
LOCATION:The Venue
CATEGORIES:Lifestyle Activities and Events
END:VEVENT
BEGIN:VEVENT
DTSTART;TZID=America/New_York:20260325T140000
DTEND;TZID=America/New_York:20260325T160000
DTSTAMP:20260421T094048
CREATED:20260314T122144Z
LAST-MODIFIED:20260314T122144Z
UID:69652-1774447200-1774454400@www.esplanadebytheislandslifestyle.com
SUMMARY:Mahjongg Club
DESCRIPTION:A fun\, social group that meets weekly to play the beloved tile game with 3-4 players per table. \nClub Contact: Rochelle Ducharme | rmc0585@gmail.com
URL:https://www.esplanadebytheislandslifestyle.com/event/mahjongg-club/2026-03-25/
LOCATION:The Venue
CATEGORIES:Clubs
END:VEVENT
BEGIN:VEVENT
DTSTART;TZID=America/New_York:20260324T190000
DTEND;TZID=America/New_York:20260324T220000
DTSTAMP:20260421T094048
CREATED:20260314T114505Z
LAST-MODIFIED:20260314T122618Z
UID:69236-1774378800-1774389600@www.esplanadebytheislandslifestyle.com
SUMMARY:Mahjong After Dark Club
DESCRIPTION:A fun\, social mahjong group for people looking for friendly games with a relaxed\, no-pressure vibe. \nClub Contact: Sarah Powell | spowell305@gmail.com
URL:https://www.esplanadebytheislandslifestyle.com/event/mahjong-after-dark-club/2026-03-24/
LOCATION:The Venue
CATEGORIES:Clubs
END:VEVENT
BEGIN:VEVENT
DTSTART;TZID=America/New_York:20260323T173000
DTEND;TZID=America/New_York:20260323T190000
DTSTAMP:20260421T094048
CREATED:20260317T172810Z
LAST-MODIFIED:20260317T172823Z
UID:70098-1774287000-1774292400@www.esplanadebytheislandslifestyle.com
SUMMARY:Give A Hoot - Owl Presentation
DESCRIPTION:Join us as we learn about owls in our community and how we can best support them. A Wildlife Biologist from the Audubon Western Everglades will be on-site giving a presentation about these feathered friends and giving us practical tips to help ensure we all do our part to keep them safe.
URL:https://www.esplanadebytheislandslifestyle.com/event/give-a-hoot-owl-presentation/
LOCATION:The Venue
CATEGORIES:Lifestyle Activities and Events
END:VEVENT
BEGIN:VEVENT
DTSTART;TZID=America/New_York:20260320T140000
DTEND;TZID=America/New_York:20260320T153000
DTSTAMP:20260421T094048
CREATED:20260303T160605Z
LAST-MODIFIED:20260303T183945Z
UID:68283-1774015200-1774020600@www.esplanadebytheislandslifestyle.com
SUMMARY:Springo-Bingo
DESCRIPTION:Join us as we celebrate the first day of Spring with a game of Bingo! Players enjoy the same familiar gameplay—chasing that winning row and calling out “Bingo!”—but with a seasonal twist: all the prizes are inspired by the joys of spring. Think blooming flowers\, garden goodies\, spring cleaning essentials\, bright treats\, and little surprises that celebrate longer days and warmer weather. It’s an easy\, cheerful way to welcome the season with friendly competition and a burst of springtime spirit!
URL:https://www.esplanadebytheislandslifestyle.com/event/springo-bingo/
LOCATION:The Venue
CATEGORIES:Lifestyle Activities and Events
ATTACH;FMTTYPE=image/jpeg:https://www.esplanadebytheislandslifestyle.com/wp-content/uploads/sites/64/2026/01/Bingo.jpg
END:VEVENT
BEGIN:VEVENT
DTSTART;TZID=America/New_York:20260319T160000
DTEND;TZID=America/New_York:20260319T180000
DTSTAMP:20260421T094048
CREATED:20260317T192339Z
LAST-MODIFIED:20260318T145151Z
UID:70106-1773936000-1773943200@www.esplanadebytheislandslifestyle.com
SUMMARY:Passlink Pro and Access Control Help Session - Afternoon Session
DESCRIPTION:Members of the Passlink Pro System team will be on-site leading the\nsession and will be available to help you: \n• Set up your Passlink Pro account\n• Create QR codes for guests and visitors\n• Learn how to use the access control features\n• Understand the key operational functions of the platform \nPlease bring your iPads\, laptops\, or mobile phones so the team can\nassist you directly in getting everything set up and ensure you are\ncomfortable using this important community tool. \nWe look forward to helping you get connected!
URL:https://www.esplanadebytheislandslifestyle.com/event/passlink-pro-and-access-control-help-session-afternoon-session-control-help-session-am/
LOCATION:The Venue
END:VEVENT
BEGIN:VEVENT
DTSTART;TZID=America/New_York:20260319T090000
DTEND;TZID=America/New_York:20260319T120000
DTSTAMP:20260421T094048
CREATED:20260317T191947Z
LAST-MODIFIED:20260317T192701Z
UID:70102-1773910800-1773921600@www.esplanadebytheislandslifestyle.com
SUMMARY:Passlink Pro and Access Control Help Session - Morning Session
DESCRIPTION:Members of the Passlink Pro System team will be on-site leading the\nsession and will be available to help you: \n• Set up your Passlink Pro account\n• Create QR codes for guests and visitors\n• Learn how to use the access control features\n• Understand the key operational functions of the platform \nPlease bring your iPads\, laptops\, or mobile phones so the team can\nassist you directly in getting everything set up and ensure you are\ncomfortable using this important community tool. \nWe look forward to helping you get connected!
URL:https://www.esplanadebytheislandslifestyle.com/event/passlink-pro-and-access-control-help-session-am/
LOCATION:The Venue
END:VEVENT
BEGIN:VEVENT
DTSTART;TZID=America/New_York:20260318T140000
DTEND;TZID=America/New_York:20260318T160000
DTSTAMP:20260421T094048
CREATED:20260314T122144Z
LAST-MODIFIED:20260314T122144Z
UID:69651-1773842400-1773849600@www.esplanadebytheislandslifestyle.com
SUMMARY:Mahjongg Club
DESCRIPTION:A fun\, social group that meets weekly to play the beloved tile game with 3-4 players per table. \nClub Contact: Rochelle Ducharme | rmc0585@gmail.com
URL:https://www.esplanadebytheislandslifestyle.com/event/mahjongg-club/2026-03-18/
LOCATION:The Venue
CATEGORIES:Clubs
END:VEVENT
BEGIN:VEVENT
DTSTART;TZID=America/New_York:20260317T190000
DTEND;TZID=America/New_York:20260317T220000
DTSTAMP:20260421T094048
CREATED:20260314T114505Z
LAST-MODIFIED:20260314T122618Z
UID:69235-1773774000-1773784800@www.esplanadebytheislandslifestyle.com
SUMMARY:Mahjong After Dark Club
DESCRIPTION:A fun\, social mahjong group for people looking for friendly games with a relaxed\, no-pressure vibe. \nClub Contact: Sarah Powell | spowell305@gmail.com
URL:https://www.esplanadebytheislandslifestyle.com/event/mahjong-after-dark-club/2026-03-17/
LOCATION:The Venue
CATEGORIES:Clubs
END:VEVENT
BEGIN:VEVENT
DTSTART;VALUE=DATE:20260317
DTEND;VALUE=DATE:20260318
DTSTAMP:20260421T094048
CREATED:20260304T172442Z
LAST-MODIFIED:20260304T172508Z
UID:68329-1773705600-1773791999@www.esplanadebytheislandslifestyle.com
SUMMARY:St. Patrick's Day Marshmallow Mayhem
DESCRIPTION:Celebrate St. Patrick’s Day and test your luck (along with your estimation skills) by guessing how many marshmallows a leprechaun left behind for us at the Venue! Stop by and fill out your answer slip for the chance to win your very own pot of “gold.”
URL:https://www.esplanadebytheislandslifestyle.com/event/st-patricks-day-marshmallow-mayhem/
LOCATION:The Venue
CATEGORIES:Lifestyle Activities and Events
ATTACH;FMTTYPE=image/jpeg:https://www.esplanadebytheislandslifestyle.com/wp-content/uploads/sites/64/2022/02/Depositphotos_64353211_L.jpg
END:VEVENT
BEGIN:VEVENT
DTSTART;TZID=America/New_York:20260316T130000
DTEND;TZID=America/New_York:20260316T143000
DTSTAMP:20260421T094049
CREATED:20260314T115656Z
LAST-MODIFIED:20260420T095442Z
UID:69613-1773666000-1773671400@www.esplanadebytheislandslifestyle.com
SUMMARY:Butterfly Garden Club
DESCRIPTION:A fun\, social and welcoming group that meets monthly to learn\, connect\, and meet neighbors who share an interest in nature and gardening. No prior gardening or butterfly knowledge is required. \nClub Contact: Adrian Edmonds | aedmonds622@gmail.com
URL:https://www.esplanadebytheislandslifestyle.com/event/butterfly-garden-club/2026-03-16/
LOCATION:The Venue
CATEGORIES:Clubs
END:VEVENT
BEGIN:VEVENT
DTSTART;TZID=America/New_York:20260313T100000
DTEND;TZID=America/New_York:20260313T120000
DTSTAMP:20260421T094049
CREATED:20260313T141108Z
LAST-MODIFIED:20260313T141108Z
UID:69407-1773396000-1773403200@www.esplanadebytheislandslifestyle.com
SUMMARY:Private Event
DESCRIPTION:Lifestyle Room booked for Private Event
URL:https://www.esplanadebytheislandslifestyle.com/event/private-event/
LOCATION:The Venue
CATEGORIES:Lifestyle Activities and Events
END:VEVENT
BEGIN:VEVENT
DTSTART;TZID=America/New_York:20260312T143000
DTEND;TZID=America/New_York:20260312T163000
DTSTAMP:20260421T094049
CREATED:20260224T200958Z
LAST-MODIFIED:20260224T204107Z
UID:68059-1773325800-1773333000@www.esplanadebytheislandslifestyle.com
SUMMARY:National Plant a Flower Day
DESCRIPTION:Join us at the Venue from 2:30pm to 4:30pm on March 12th as we celebrate National Plant a Flower Day! We’ll provide everything you need to plant your very own potted flower to take home.
URL:https://www.esplanadebytheislandslifestyle.com/event/national-plant-a-flower-day/
LOCATION:The Venue
CATEGORIES:Lifestyle Activities and Events
ATTACH;FMTTYPE=image/jpeg:https://www.esplanadebytheislandslifestyle.com/wp-content/uploads/sites/64/2025/01/FloralArrangement.jpg
END:VEVENT
BEGIN:VEVENT
DTSTART;TZID=America/New_York:20260310T190000
DTEND;TZID=America/New_York:20260310T220000
DTSTAMP:20260421T094049
CREATED:20260314T114505Z
LAST-MODIFIED:20260314T122618Z
UID:69234-1773169200-1773180000@www.esplanadebytheislandslifestyle.com
SUMMARY:Mahjong After Dark Club
DESCRIPTION:A fun\, social mahjong group for people looking for friendly games with a relaxed\, no-pressure vibe. \nClub Contact: Sarah Powell | spowell305@gmail.com
URL:https://www.esplanadebytheislandslifestyle.com/event/mahjong-after-dark-club/2026-03-10/
LOCATION:The Venue
CATEGORIES:Clubs
END:VEVENT
BEGIN:VEVENT
DTSTART;TZID=America/New_York:20260306T100000
DTEND;TZID=America/New_York:20260306T140000
DTSTAMP:20260421T094049
CREATED:20260219T200453Z
LAST-MODIFIED:20260219T200453Z
UID:67876-1772791200-1772805600@www.esplanadebytheislandslifestyle.com
SUMMARY:National Oreo Day
DESCRIPTION:Let’s celebrate National Oreo Day! Stop by the Venue between 10am and 2pm to answer an Oreo-themed trivia question and win a sweet treat. Grab-and-go style event\, while supplies last
URL:https://www.esplanadebytheislandslifestyle.com/event/national-oreo-day/
LOCATION:The Venue
CATEGORIES:Lifestyle Activities and Events
ATTACH;FMTTYPE=image/png:https://www.esplanadebytheislandslifestyle.com/wp-content/uploads/sites/64/2026/02/pngtree-the-oreo-cookies-are-piled-up-on-top-of-each-other-picture-image_3368181.png
END:VEVENT
END:VCALENDAR