BEGIN:VCALENDAR
VERSION:2.0
PRODID:-//Esplanade by the Islands - ECPv6.15.15//NONSGML v1.0//EN
CALSCALE:GREGORIAN
METHOD:PUBLISH
X-ORIGINAL-URL:https://www.esplanadebytheislandslifestyle.com
X-WR-CALDESC:Events for Esplanade by the Islands
REFRESH-INTERVAL;VALUE=DURATION:PT1H
X-Robots-Tag:noindex
X-PUBLISHED-TTL:PT1H
BEGIN:VTIMEZONE
TZID:America/New_York
BEGIN:DAYLIGHT
TZOFFSETFROM:-0500
TZOFFSETTO:-0400
TZNAME:EDT
DTSTART:20260308T070000
END:DAYLIGHT
BEGIN:STANDARD
TZOFFSETFROM:-0400
TZOFFSETTO:-0500
TZNAME:EST
DTSTART:20261101T060000
END:STANDARD
BEGIN:DAYLIGHT
TZOFFSETFROM:-0500
TZOFFSETTO:-0400
TZNAME:EDT
DTSTART:20270314T070000
END:DAYLIGHT
BEGIN:STANDARD
TZOFFSETFROM:-0400
TZOFFSETTO:-0500
TZNAME:EST
DTSTART:20271107T060000
END:STANDARD
BEGIN:DAYLIGHT
TZOFFSETFROM:-0500
TZOFFSETTO:-0400
TZNAME:EDT
DTSTART:20280312T070000
END:DAYLIGHT
BEGIN:STANDARD
TZOFFSETFROM:-0400
TZOFFSETTO:-0500
TZNAME:EST
DTSTART:20281105T060000
END:STANDARD
BEGIN:DAYLIGHT
TZOFFSETFROM:-0500
TZOFFSETTO:-0400
TZNAME:EDT
DTSTART:20290311T070000
END:DAYLIGHT
BEGIN:STANDARD
TZOFFSETFROM:-0400
TZOFFSETTO:-0500
TZNAME:EST
DTSTART:20291104T060000
END:STANDARD
END:VTIMEZONE
BEGIN:VEVENT
DTSTART;TZID=America/New_York:20271116T190000
DTEND;TZID=America/New_York:20271116T220000
DTSTAMP:20260422T025236
CREATED:20260314T114505Z
LAST-MODIFIED:20260314T122611Z
UID:69491-1826391600-1826402400@www.esplanadebytheislandslifestyle.com
SUMMARY:Mahjong After Dark Club
DESCRIPTION:A fun\, social mahjong group for people looking for friendly games with a relaxed\, no-pressure vibe. \nClub Contact: Sarah Powell spowell305@gmail.com
URL:https://www.esplanadebytheislandslifestyle.com/event/mahjong-after-dark-club/2027-11-16/
LOCATION:The Venue
CATEGORIES:Clubs
END:VEVENT
BEGIN:VEVENT
DTSTART;TZID=America/New_York:20271123T190000
DTEND;TZID=America/New_York:20271123T220000
DTSTAMP:20260422T025236
CREATED:20260314T114505Z
LAST-MODIFIED:20260314T122612Z
UID:69492-1826996400-1827007200@www.esplanadebytheislandslifestyle.com
SUMMARY:Mahjong After Dark Club
DESCRIPTION:A fun\, social mahjong group for people looking for friendly games with a relaxed\, no-pressure vibe. \nClub Contact: Sarah Powell spowell305@gmail.com
URL:https://www.esplanadebytheislandslifestyle.com/event/mahjong-after-dark-club/2027-11-23/
LOCATION:The Venue
CATEGORIES:Clubs
END:VEVENT
BEGIN:VEVENT
DTSTART;TZID=America/New_York:20271130T190000
DTEND;TZID=America/New_York:20271130T220000
DTSTAMP:20260422T025236
CREATED:20260314T114505Z
LAST-MODIFIED:20260314T122612Z
UID:69493-1827601200-1827612000@www.esplanadebytheislandslifestyle.com
SUMMARY:Mahjong After Dark Club
DESCRIPTION:A fun\, social mahjong group for people looking for friendly games with a relaxed\, no-pressure vibe. \nClub Contact: Sarah Powell spowell305@gmail.com
URL:https://www.esplanadebytheislandslifestyle.com/event/mahjong-after-dark-club/2027-11-30/
LOCATION:The Venue
CATEGORIES:Clubs
END:VEVENT
BEGIN:VEVENT
DTSTART;TZID=America/New_York:20271207T190000
DTEND;TZID=America/New_York:20271207T220000
DTSTAMP:20260422T025236
CREATED:20260314T114505Z
LAST-MODIFIED:20260314T122614Z
UID:69494-1828206000-1828216800@www.esplanadebytheislandslifestyle.com
SUMMARY:Mahjong After Dark Club
DESCRIPTION:A fun\, social mahjong group for people looking for friendly games with a relaxed\, no-pressure vibe. \nClub Contact: Sarah Powell spowell305@gmail.com
URL:https://www.esplanadebytheislandslifestyle.com/event/mahjong-after-dark-club/2027-12-07/
LOCATION:The Venue
CATEGORIES:Clubs
END:VEVENT
BEGIN:VEVENT
DTSTART;TZID=America/New_York:20271214T190000
DTEND;TZID=America/New_York:20271214T220000
DTSTAMP:20260422T025236
CREATED:20260314T114505Z
LAST-MODIFIED:20260314T122615Z
UID:69495-1828810800-1828821600@www.esplanadebytheislandslifestyle.com
SUMMARY:Mahjong After Dark Club
DESCRIPTION:A fun\, social mahjong group for people looking for friendly games with a relaxed\, no-pressure vibe. \nClub Contact: Sarah Powell spowell305@gmail.com
URL:https://www.esplanadebytheislandslifestyle.com/event/mahjong-after-dark-club/2027-12-14/
LOCATION:The Venue
CATEGORIES:Clubs
END:VEVENT
BEGIN:VEVENT
DTSTART;TZID=America/New_York:20271221T190000
DTEND;TZID=America/New_York:20271221T220000
DTSTAMP:20260422T025236
CREATED:20260314T114505Z
LAST-MODIFIED:20260314T122615Z
UID:69496-1829415600-1829426400@www.esplanadebytheislandslifestyle.com
SUMMARY:Mahjong After Dark Club
DESCRIPTION:A fun\, social mahjong group for people looking for friendly games with a relaxed\, no-pressure vibe. \nClub Contact: Sarah Powell spowell305@gmail.com
URL:https://www.esplanadebytheislandslifestyle.com/event/mahjong-after-dark-club/2027-12-21/
LOCATION:The Venue
CATEGORIES:Clubs
END:VEVENT
BEGIN:VEVENT
DTSTART;TZID=America/New_York:20271228T190000
DTEND;TZID=America/New_York:20271228T220000
DTSTAMP:20260422T025236
CREATED:20260314T114505Z
LAST-MODIFIED:20260314T122615Z
UID:69497-1830020400-1830031200@www.esplanadebytheislandslifestyle.com
SUMMARY:Mahjong After Dark Club
DESCRIPTION:A fun\, social mahjong group for people looking for friendly games with a relaxed\, no-pressure vibe. \nClub Contact: Sarah Powell spowell305@gmail.com
URL:https://www.esplanadebytheislandslifestyle.com/event/mahjong-after-dark-club/2027-12-28/
LOCATION:The Venue
CATEGORIES:Clubs
END:VEVENT
BEGIN:VEVENT
DTSTART;TZID=America/New_York:20280104T190000
DTEND;TZID=America/New_York:20280104T220000
DTSTAMP:20260422T025236
CREATED:20260314T114505Z
LAST-MODIFIED:20260314T122615Z
UID:69498-1830625200-1830636000@www.esplanadebytheislandslifestyle.com
SUMMARY:Mahjong After Dark Club
DESCRIPTION:A fun\, social mahjong group for people looking for friendly games with a relaxed\, no-pressure vibe. \nClub Contact: Sarah Powell spowell305@gmail.com
URL:https://www.esplanadebytheislandslifestyle.com/event/mahjong-after-dark-club/2028-01-04/
LOCATION:The Venue
CATEGORIES:Clubs
END:VEVENT
BEGIN:VEVENT
DTSTART;TZID=America/New_York:20280111T190000
DTEND;TZID=America/New_York:20280111T220000
DTSTAMP:20260422T025236
CREATED:20260314T114505Z
LAST-MODIFIED:20260314T122615Z
UID:69499-1831230000-1831240800@www.esplanadebytheislandslifestyle.com
SUMMARY:Mahjong After Dark Club
DESCRIPTION:A fun\, social mahjong group for people looking for friendly games with a relaxed\, no-pressure vibe. \nClub Contact: Sarah Powell spowell305@gmail.com
URL:https://www.esplanadebytheislandslifestyle.com/event/mahjong-after-dark-club/2028-01-11/
LOCATION:The Venue
CATEGORIES:Clubs
END:VEVENT
BEGIN:VEVENT
DTSTART;TZID=America/New_York:20280118T190000
DTEND;TZID=America/New_York:20280118T220000
DTSTAMP:20260422T025236
CREATED:20260314T114505Z
LAST-MODIFIED:20260314T122616Z
UID:69500-1831834800-1831845600@www.esplanadebytheislandslifestyle.com
SUMMARY:Mahjong After Dark Club
DESCRIPTION:A fun\, social mahjong group for people looking for friendly games with a relaxed\, no-pressure vibe. \nClub Contact: Sarah Powell spowell305@gmail.com
URL:https://www.esplanadebytheislandslifestyle.com/event/mahjong-after-dark-club/2028-01-18/
LOCATION:The Venue
CATEGORIES:Clubs
END:VEVENT
BEGIN:VEVENT
DTSTART;TZID=America/New_York:20280125T190000
DTEND;TZID=America/New_York:20280125T220000
DTSTAMP:20260422T025236
CREATED:20260314T114505Z
LAST-MODIFIED:20260314T122616Z
UID:69501-1832439600-1832450400@www.esplanadebytheislandslifestyle.com
SUMMARY:Mahjong After Dark Club
DESCRIPTION:A fun\, social mahjong group for people looking for friendly games with a relaxed\, no-pressure vibe. \nClub Contact: Sarah Powell spowell305@gmail.com
URL:https://www.esplanadebytheislandslifestyle.com/event/mahjong-after-dark-club/2028-01-25/
LOCATION:The Venue
CATEGORIES:Clubs
END:VEVENT
BEGIN:VEVENT
DTSTART;TZID=America/New_York:20280201T190000
DTEND;TZID=America/New_York:20280201T220000
DTSTAMP:20260422T025236
CREATED:20260314T114505Z
LAST-MODIFIED:20260314T122616Z
UID:69502-1833044400-1833055200@www.esplanadebytheislandslifestyle.com
SUMMARY:Mahjong After Dark Club
DESCRIPTION:A fun\, social mahjong group for people looking for friendly games with a relaxed\, no-pressure vibe. \nClub Contact: Sarah Powell spowell305@gmail.com
URL:https://www.esplanadebytheislandslifestyle.com/event/mahjong-after-dark-club/2028-02-01/
LOCATION:The Venue
CATEGORIES:Clubs
END:VEVENT
BEGIN:VEVENT
DTSTART;TZID=America/New_York:20280208T190000
DTEND;TZID=America/New_York:20280208T220000
DTSTAMP:20260422T025236
CREATED:20260314T114505Z
LAST-MODIFIED:20260314T122616Z
UID:69503-1833649200-1833660000@www.esplanadebytheislandslifestyle.com
SUMMARY:Mahjong After Dark Club
DESCRIPTION:A fun\, social mahjong group for people looking for friendly games with a relaxed\, no-pressure vibe. \nClub Contact: Sarah Powell spowell305@gmail.com
URL:https://www.esplanadebytheislandslifestyle.com/event/mahjong-after-dark-club/2028-02-08/
LOCATION:The Venue
CATEGORIES:Clubs
END:VEVENT
BEGIN:VEVENT
DTSTART;TZID=America/New_York:20280215T190000
DTEND;TZID=America/New_York:20280215T220000
DTSTAMP:20260422T025236
CREATED:20260314T114556Z
LAST-MODIFIED:20260314T114556Z
UID:69504-1834254000-1834264800@www.esplanadebytheislandslifestyle.com
SUMMARY:Mahjong After Dark Club
DESCRIPTION:A fun\, social mahjong group for people looking for friendly games with a relaxed\, no-pressure vibe. \nClub Contact: Sarah Powell spowell305@gmail.com
URL:https://www.esplanadebytheislandslifestyle.com/event/mahjong-after-dark-club/2028-02-15/
LOCATION:The Venue
CATEGORIES:Clubs
END:VEVENT
BEGIN:VEVENT
DTSTART;TZID=America/New_York:20280222T190000
DTEND;TZID=America/New_York:20280222T220000
DTSTAMP:20260422T025236
CREATED:20260314T114556Z
LAST-MODIFIED:20260314T114556Z
UID:69505-1834858800-1834869600@www.esplanadebytheislandslifestyle.com
SUMMARY:Mahjong After Dark Club
DESCRIPTION:A fun\, social mahjong group for people looking for friendly games with a relaxed\, no-pressure vibe. \nClub Contact: Sarah Powell spowell305@gmail.com
URL:https://www.esplanadebytheislandslifestyle.com/event/mahjong-after-dark-club/2028-02-22/
LOCATION:The Venue
CATEGORIES:Clubs
END:VEVENT
BEGIN:VEVENT
DTSTART;TZID=America/New_York:20280229T190000
DTEND;TZID=America/New_York:20280229T220000
DTSTAMP:20260422T025236
CREATED:20260314T114556Z
LAST-MODIFIED:20260314T114556Z
UID:69506-1835463600-1835474400@www.esplanadebytheislandslifestyle.com
SUMMARY:Mahjong After Dark Club
DESCRIPTION:A fun\, social mahjong group for people looking for friendly games with a relaxed\, no-pressure vibe. \nClub Contact: Sarah Powell spowell305@gmail.com
URL:https://www.esplanadebytheislandslifestyle.com/event/mahjong-after-dark-club/2028-02-29/
LOCATION:The Venue
CATEGORIES:Clubs
END:VEVENT
BEGIN:VEVENT
DTSTART;TZID=America/New_York:20280307T190000
DTEND;TZID=America/New_York:20280307T220000
DTSTAMP:20260422T025236
CREATED:20260314T114556Z
LAST-MODIFIED:20260314T114556Z
UID:69507-1836068400-1836079200@www.esplanadebytheislandslifestyle.com
SUMMARY:Mahjong After Dark Club
DESCRIPTION:A fun\, social mahjong group for people looking for friendly games with a relaxed\, no-pressure vibe. \nClub Contact: Sarah Powell spowell305@gmail.com
URL:https://www.esplanadebytheislandslifestyle.com/event/mahjong-after-dark-club/2028-03-07/
LOCATION:The Venue
CATEGORIES:Clubs
END:VEVENT
BEGIN:VEVENT
DTSTART;TZID=America/New_York:20280314T190000
DTEND;TZID=America/New_York:20280314T220000
DTSTAMP:20260422T025236
CREATED:20260314T114505Z
LAST-MODIFIED:20260314T114505Z
UID:70037-1836673200-1836684000@www.esplanadebytheislandslifestyle.com
SUMMARY:Mahjong After Dark Club
DESCRIPTION:A fun\, social mahjong group for people looking for friendly games with a relaxed\, no-pressure vibe. \nClub Contact: Sarah Powell | spowell305@gmail.com
URL:https://www.esplanadebytheislandslifestyle.com/event/mahjong-after-dark-club/2028-03-14/
LOCATION:The Venue
CATEGORIES:Clubs
END:VEVENT
BEGIN:VEVENT
DTSTART;TZID=America/New_York:20280321T190000
DTEND;TZID=America/New_York:20280321T220000
DTSTAMP:20260422T025236
CREATED:20260314T114505Z
LAST-MODIFIED:20260314T114505Z
UID:70489-1837278000-1837288800@www.esplanadebytheislandslifestyle.com
SUMMARY:Mahjong After Dark Club
DESCRIPTION:A fun\, social mahjong group for people looking for friendly games with a relaxed\, no-pressure vibe. \nClub Contact: Sarah Powell | spowell305@gmail.com
URL:https://www.esplanadebytheislandslifestyle.com/event/mahjong-after-dark-club/2028-03-21/
LOCATION:The Venue
CATEGORIES:Clubs
END:VEVENT
BEGIN:VEVENT
DTSTART;TZID=America/New_York:20280328T190000
DTEND;TZID=America/New_York:20280328T220000
DTSTAMP:20260422T025236
CREATED:20260314T114505Z
LAST-MODIFIED:20260314T114505Z
UID:71367-1837882800-1837893600@www.esplanadebytheislandslifestyle.com
SUMMARY:Mahjong After Dark Club
DESCRIPTION:A fun\, social mahjong group for people looking for friendly games with a relaxed\, no-pressure vibe. \nClub Contact: Sarah Powell | spowell305@gmail.com
URL:https://www.esplanadebytheislandslifestyle.com/event/mahjong-after-dark-club/2028-03-28/
LOCATION:The Venue
CATEGORIES:Clubs
END:VEVENT
BEGIN:VEVENT
DTSTART;TZID=America/New_York:20280404T190000
DTEND;TZID=America/New_York:20280404T220000
DTSTAMP:20260422T025236
CREATED:20260314T114505Z
LAST-MODIFIED:20260314T114505Z
UID:71726-1838487600-1838498400@www.esplanadebytheislandslifestyle.com
SUMMARY:Mahjong After Dark Club
DESCRIPTION:A fun\, social mahjong group for people looking for friendly games with a relaxed\, no-pressure vibe. \nClub Contact: Sarah Powell | spowell305@gmail.com
URL:https://www.esplanadebytheislandslifestyle.com/event/mahjong-after-dark-club/2028-04-04/
LOCATION:The Venue
CATEGORIES:Clubs
END:VEVENT
BEGIN:VEVENT
DTSTART;TZID=America/New_York:20280411T190000
DTEND;TZID=America/New_York:20280411T220000
DTSTAMP:20260422T025236
CREATED:20260314T114505Z
LAST-MODIFIED:20260314T114505Z
UID:71851-1839092400-1839103200@www.esplanadebytheislandslifestyle.com
SUMMARY:Mahjong After Dark Club
DESCRIPTION:A fun\, social mahjong group for people looking for friendly games with a relaxed\, no-pressure vibe. \nClub Contact: Sarah Powell | spowell305@gmail.com
URL:https://www.esplanadebytheislandslifestyle.com/event/mahjong-after-dark-club/2028-04-11/
LOCATION:The Venue
CATEGORIES:Clubs
END:VEVENT
BEGIN:VEVENT
DTSTART;TZID=America/New_York:20280418T190000
DTEND;TZID=America/New_York:20280418T220000
DTSTAMP:20260422T025236
CREATED:20260314T114505Z
LAST-MODIFIED:20260314T114505Z
UID:72182-1839697200-1839708000@www.esplanadebytheislandslifestyle.com
SUMMARY:Mahjong After Dark Club
DESCRIPTION:A fun\, social mahjong group for people looking for friendly games with a relaxed\, no-pressure vibe. \nClub Contact: Sarah Powell | spowell305@gmail.com
URL:https://www.esplanadebytheislandslifestyle.com/event/mahjong-after-dark-club/2028-04-18/
LOCATION:The Venue
CATEGORIES:Clubs
END:VEVENT
END:VCALENDAR