BEGIN:VCALENDAR
VERSION:2.0
PRODID:-//Esplanade by the Islands - ECPv6.15.15//NONSGML v1.0//EN
CALSCALE:GREGORIAN
METHOD:PUBLISH
X-ORIGINAL-URL:https://www.esplanadebytheislandslifestyle.com
X-WR-CALDESC:Events for Esplanade by the Islands
REFRESH-INTERVAL;VALUE=DURATION:PT1H
X-Robots-Tag:noindex
X-PUBLISHED-TTL:PT1H
BEGIN:VTIMEZONE
TZID:America/New_York
BEGIN:DAYLIGHT
TZOFFSETFROM:-0500
TZOFFSETTO:-0400
TZNAME:EDT
DTSTART:20230312T070000
END:DAYLIGHT
BEGIN:STANDARD
TZOFFSETFROM:-0400
TZOFFSETTO:-0500
TZNAME:EST
DTSTART:20231105T060000
END:STANDARD
BEGIN:DAYLIGHT
TZOFFSETFROM:-0500
TZOFFSETTO:-0400
TZNAME:EDT
DTSTART:20240310T070000
END:DAYLIGHT
BEGIN:STANDARD
TZOFFSETFROM:-0400
TZOFFSETTO:-0500
TZNAME:EST
DTSTART:20241103T060000
END:STANDARD
BEGIN:DAYLIGHT
TZOFFSETFROM:-0500
TZOFFSETTO:-0400
TZNAME:EDT
DTSTART:20250309T070000
END:DAYLIGHT
BEGIN:STANDARD
TZOFFSETFROM:-0400
TZOFFSETTO:-0500
TZNAME:EST
DTSTART:20251102T060000
END:STANDARD
END:VTIMEZONE
BEGIN:VEVENT
DTSTART;TZID=America/New_York:20240924T180000
DTEND;TZID=America/New_York:20240924T200000
DTSTAMP:20260422T161925
CREATED:20240813T013502Z
LAST-MODIFIED:20240813T013502Z
UID:36827-1727200800-1727208000@www.esplanadebytheislandslifestyle.com
SUMMARY:Gentlemen's Cigar Group Gathering
DESCRIPTION:Join your fellow neighbors for an evening of relaxation and conversation.  Feel free to bring drinks and food. Cigars are available for purchase. \nPlease contact David Amadori for collabarating on details at davidamadori@aol.com. This will be a reoccurring monthly event that takes place every 4th Wednesday of each month. \nhttps://www.vintinocigars.com/ \nVintino Premium Cigars and Smoking Lounge in Naples Florida started as a vision. We wanted to create a place where people could gather and enjoy the simple pleasure of smoking a cigar. We were looking to create more than just another neighborhood tobacco store\, we are two friends with a lifetime passion for fine cigars who saw a need in East Naples for a place where those new to cigars and aficionados alike could gather and enjoy a smoke with friends\, and perhaps even meet some new ones!
URL:https://www.esplanadebytheislandslifestyle.com/event/gentlemens-cigar-group-gathering-2/
LOCATION:Vintino Cigars\, 4424 Tamiami Trail E\, Naples\, FL 34112
CATEGORIES:Lifestyle Activities and Events
ATTACH;FMTTYPE=image/jpeg:https://www.esplanadebytheislandslifestyle.com/wp-content/uploads/sites/64/2024/01/yohan-cho-dHOH6saXfCQ-unsplash-1-scaled.jpg
END:VEVENT
BEGIN:VEVENT
DTSTART;TZID=America/New_York:20240724T180000
DTEND;TZID=America/New_York:20240724T200000
DTSTAMP:20260422T161925
CREATED:20240509T151009Z
LAST-MODIFIED:20240509T204437Z
UID:35556-1721844000-1721851200@www.esplanadebytheislandslifestyle.com
SUMMARY:Gentlemen's Cigar Group Gathering
DESCRIPTION:Join your fellow neighbors for an evening of relaxation and conversation.  Feel free to bring drinks and food. Cigars are available for purchase. \nPlease contact David Amadori for collabarating on details at davidamadori@aol.com. This will be a reoccurring monthly event that takes place every 4th Wednesday of each month. \nhttps://www.vintinocigars.com/ \nVintino Premium Cigars and Smoking Lounge in Naples Florida started as a vision. We wanted to create a place where people could gather and enjoy the simple pleasure of smoking a cigar. We were looking to create more than just another neighborhood tobacco store\, we are two friends with a lifetime passion for fine cigars who saw a need in East Naples for a place where those new to cigars and aficionados alike could gather and enjoy a smoke with friends\, and perhaps even meet some new ones!
URL:https://www.esplanadebytheislandslifestyle.com/event/gentlemens-cigar-group-gathering/
LOCATION:Vintino Cigars\, 4424 Tamiami Trail E\, Naples\, FL 34112
CATEGORIES:Lifestyle Activities and Events
ATTACH;FMTTYPE=image/jpeg:https://www.esplanadebytheislandslifestyle.com/wp-content/uploads/sites/64/2024/01/yohan-cho-dHOH6saXfCQ-unsplash-1-scaled.jpg
ORGANIZER;CN="Jennifer Jaehrling":MAILTO:Jennifer.Jaehrling@teamesplanade.com
END:VEVENT
BEGIN:VEVENT
DTSTART;TZID=America/New_York:20240409T170000
DTEND;TZID=America/New_York:20240409T190000
DTSTAMP:20260422T161925
CREATED:20240124T154227Z
LAST-MODIFIED:20240403T131336Z
UID:33372-1712682000-1712689200@www.esplanadebytheislandslifestyle.com
SUMMARY:Gentlemen's Evening Gathering
DESCRIPTION:Join your fellow neighbors for an evening of relaxation and conversation.  Feel free to bring drinks and food. Cigars are available for purchase. \nhttps://www.vintinocigars.com/ \nVintino Premium Cigars and Smoking Lounge in Naples Florida started as a vision. We wanted to create a place where people could gather and enjoy the simple pleasure of smoking a cigar. We were looking to create more than just another neighborhood tobacco store\, we are two friends with a lifetime passion for fine cigars who saw a need in East Naples for a place where those new to cigars and aficionados alike could gather and enjoy a smoke with friends\, and perhaps even meet some new ones!
URL:https://www.esplanadebytheislandslifestyle.com/event/gentlemens-evening-gathering/
LOCATION:Vintino Cigars\, 4424 Tamiami Trail E\, Naples\, FL 34112
CATEGORIES:Lifestyle Activities and Events
ATTACH;FMTTYPE=image/jpeg:https://www.esplanadebytheislandslifestyle.com/wp-content/uploads/sites/64/2024/01/yohan-cho-dHOH6saXfCQ-unsplash-1-scaled.jpg
ORGANIZER;CN="Jennifer Jaehrling":MAILTO:Jennifer.Jaehrling@teamesplanade.com
END:VEVENT
END:VCALENDAR